Workbook

Sheet G1
G1: Table G1
C2: BARBADOS' TRADE IN GOODS - VISIBLE TRADE
G3: BD$000
C5: Imports (CIF) | D5: EXPORTS (FOB) | G5: Balance of Visible Trade
D6: Total | E6: Domestic | F6: Re-Exports
C7: G3A | E7: G2 | F7: G4A
B9: 28491 | C9: 48860.953 | D9: =SUM(E9:F9) -> 24242.5 | E9: =G2B!W9 -> 6610 | F9: 17632.5 | G9: =D9-C9 -> -24618.453
B10: 28522 | C10: 51867.215 | D10: =SUM(E10:F10) -> 12886.4 | E10: =G2B!W10 -> 8474 | F10: 4412.3999 | G10: =D10-C10 -> -38980.815
B11: 28550 | C11: 44471.516 | D11: =SUM(E11:F11) -> 25830 | E11: =G2B!W11 -> 21802 | F11: 4028 | G11: =D11-C11 -> -18641.516
B12: 28581 | C12: 48080.035 | D12: =SUM(E12:F12) -> 19996.2 | E12: =G2B!W12 -> 17526 | F12: 2470.2 | G12: =D12-C12 -> -28083.835
B13: 28611 | C13: 57047.477 | D13: =SUM(E13:F13) -> 16635.5 | E13: =G2B!W13 -> 12898 | F13: 3737.5 | G13: =D13-C13 -> -40411.977
B14: 28642 | C14: 53476.16 | D14: =SUM(E14:F14) -> 19041.1 | E14: =G2B!W14 -> 14617 | F14: 4424.1001 | G14: =D14-C14 -> -34435.06
B15: 28672 | C15: 51994.652 | D15: =SUM(E15:F15) -> 21161.344 | E15: =G2B!W15 -> 17691 | F15: 3470.344 | G15: =D15-C15 -> -30833.308
B16: 28703 | C16: 51261.516 | D16: =SUM(E16:F16) -> 40194.895 | E16: =G2B!W16 -> 31393 | F16: 8801.8945 | G16: =D16-C16 -> -11066.621
B17: 28734 | C17: 52711.328 | D17: =SUM(E17:F17) -> 21420.799 | E17: =G2B!W17 -> 18488 | F17: 2932.7991 | G17: =D17-C17 -> -31290.529
B18: 28764 | C18: 55633.176 | D18: =SUM(E18:F18) -> 16323.021 | E18: =G2B!W18 -> 13696 | F18: 2627.021 | G18: =D18-C18 -> -39310.155
B19: 28795 | C19: 55214.516 | D19: =SUM(E19:F19) -> 30168.154 | E19: =G2B!W19 -> 15028 | F19: 15140.154 | G19: =D19-C19 -> -25046.361
B20: 28825 | C20: 58081.156 | D20: =SUM(E20:F20) -> 13269.203 | E20: =G2B!W20 -> 8227 | F20: 5042.2031 | G20: =D20-C20 -> -44811.953
... B296: 37226 | C296: 163212.06 | D296: =SUM(E296:F296) -> 37577.022 | E296: =G2B!W296 -> 22353.108 | F296: 15223.914 | G296: =D296-C296 -> -125635.04
B297: 37257 | C297: =G3A!V297 -> 155045.24 | D297: =SUM(E297:F297) -> 35182.004 | E297: =G2B!W297 -> 21571.938 | F297: =G4A!V9 -> 13610.066 | G297: =D297-C297 -> -119863.24
B298: 37288 | C298: =G3A!V298 -> 153508.51 | D298: =SUM(E298:F298) -> 35480.726 | E298: =G2B!W298 -> 25704.753 | F298: =G4A!V10 -> 9775.973 | G298: =D298-C298 -> -118027.79
B299: 37316 | C299: =G3A!V299 -> 168368.62 | D299: =SUM(E299:F299) -> 37349.26 | E299: =G2B!W299 -> 24718.49 | F299: =G4A!V11 -> 12630.77 | G299: =D299-C299 -> -131019.36
B300: 37347 | C300: =G3A!V300 -> 188235.27 | D300: =SUM(E300:F300) -> 51780.41 | E300: =G2B!W300 -> 36515.589 | F300: =G4A!V12 -> 15264.821 | G300: =D300-C300 -> -136454.86
B301: 37377 | C301: =G3A!V301 -> 182467.05 | D301: =SUM(E301:F301) -> 40596.515 | E301: =G2B!W301 -> 30264.584 | F301: =G4A!V13 -> 10331.931 | G301: =D301-C301 -> -141870.53
B302: 37408 | C302: =G3A!V302 -> 149824.79 | D302: =SUM(E302:F302) -> 50603.806 | E302: =G2B!W302 -> 41315.992 | F302: =G4A!V14 -> 9287.814 | G302: =D302-C302 -> -99220.987
B303: 37438 | C303: =G3A!V303 -> 210443.64 | D303: =SUM(E303:F303) -> 44904.455 | E303: =G2B!W303 -> 29383.711 | F303: =G4A!V15 -> 15520.744 | G303: =D303-C303 -> -165539.19
B304: 37469 | C304: =G3A!V304 -> 166264.07 | D304: =SUM(E304:F304) -> 35181.163 | E304: =G2B!W304 -> 23234.431 | F304: =G4A!V16 -> 11946.732 | G304: =D304-C304 -> -131082.91
B305: 37500 | C305: =G3A!V305 -> 163346.06 | D305: =SUM(E305:F305) -> 30737.153 | E305: =G2B!W305 -> 22201.297 | F305: =G4A!V17 -> 8535.856 | G305: =D305-C305 -> -132608.9
B306: 37530 | C306: =G3A!V306 -> 205081.08 | D306: =SUM(E306:F306) -> 38930.994 | E306: =G2B!W306 -> 23743.936 | F306: =G4A!V18 -> 15187.058 | G306: =D306-C306 -> -166150.08
B307: 37561 | C307: =G3A!V307 -> 217689.53 | D307: =SUM(E307:F307) -> 38750.432 | E307: =G2B!W307 -> 24921.221 | F307: =G4A!V19 -> 13829.211 | G307: =D307-C307 -> -178939.1
B308: 37591 | C308: =G3A!V308 -> 181271.29 | D308: =SUM(E308:F308) -> 43457.037 | E308: =G2B!W308 -> 29493.258 | F308: =G4A!V20 -> 13963.779 | G308: =D308-C308 -> -137814.26
... B577: 45778 | C577: =G3A!V577 -> 366503.43 | D577: =SUM(E577:F577) -> 108940.8 | E577: =G2B!W577 -> 37703.155 | F577: =G4A!V289 -> 71237.643 | G577: =D577-C577 -> -257562.64
B580: Source: Barbados Statistical Service
B582: Special Note:
B583: The Retained Imports series has been discontinued due to methodological deficiencies—namely, timing and valuation inconsistencies—that compromise the accurancy and reliability of the estimates. However, users can still calculate the series by subtracting Re-exports from Imports (CIF) of the same month.

Sheet G1A
V1: Table G1A
B2: BARBADOS' TRADE IN GOODS - DIRECTION OF TRADE (TOTAL EXPORTS)
V3: BD$000
C5: SELECT INTERNATIONAL COUNTRIES | H5: CARICOM | U5: All Other Countries | V5: TOTAL
C6: USA | D6: Canada | E6: UK | F6: Venezuela | G6: Japan | H6: Jamaica | I6: Guyana | J6: Trinidad & Tobago | K6: Dominica | L6: Grenada | M6: St. Vincent | N6: St. Lucia | O6: Montserrat | P6: Antigua | Q6: St. Kitts | R6: Belize | S6: Bahamas | T6: TOTAL
B9: 37257 | C9: 4199.102 | D9: 362.12 | E9: 996.896 | F9: 0.384 | G9: 53.45 | H9: 3455.982 | I9: 337.701 | J9: 5051.825 | K9: 463.102 | L9: 1259.508 | M9: 1590.678 | N9: 1881.874 | O9: 80.642 | P9: 715.291 | Q9: 666.848 | R9: 344.295 | S9: 588.383 | T9: =SUM(H9:S9) -> 16436.129 | U9: 13133.923 | V9: =SUM(C9:G9)+T9+U9 -> 35182.004
B10: 37288 | C10: 6958.255 | D10: 689.803 | E10: 745.104 | F10: 157.696 | G10: 0 | H10: 3145.197 | I10: 1086.563 | J10: 2367.496 | K10: 800.591 | L10: 930.706 | M10: 1633.348 | N10: 1577.549 | O10: 145.938 | P10: 1046.402 | Q10: 795.673 | R10: 469.647 | S10: 347.36 | T10: =SUM(H10:S10) -> 14346.47 | U10: 12583.398 | V10: =SUM(C10:G10)+T10+U10 -> 35480.726
B11: 37316 | C11: 4184.761 | D11: 381.278 | E11: 939.376 | F11: 145.609 | G11: 0.035 | H11: 2593.344 | I11: 886.74 | J11: 6972.664 | K11: 739.094 | L11: 849.517 | M11: 1564.815 | N11: 2351.563 | O11: 148.134 | P11: 2086.508 | Q11: 1186.091 | R11: 233.15 | S11: 264.22 | T11: =SUM(H11:S11) -> 19875.84 | U11: 11822.361 | V11: =SUM(C11:G11)+T11+U11 -> 37349.26
B12: 37347 | C12: 5765.481 | D12: 1036.361 | E12: 15595.43 | F12: 292.177 | G12: 7.567 | H12: 2365.374 | I12: 751.476 | J12: 5800.633 | K12: 637.403 | L12: 1112.725 | M12: 1257.058 | N12: 2087.111 | O12: 61.485 | P12: 945.978 | Q12: 1038.479 | R12: 199.618 | S12: 122.048 | T12: =SUM(H12:S12) -> 16379.388 | U12: 12704.006 | V12: =SUM(C12:G12)+T12+U12 -> 51780.41
B13: 37377 | C13: 7206.428 | D13: 719.751 | E13: 3044.159 | F13: 126.68 | G13: 0 | H13: 1920.401 | I13: 1310.189 | J13: 5237.726 | K13: 606.447 | L13: 804.714 | M13: 1370.529 | N13: 2385.416 | O13: 82.392 | P13: 1274.093 | Q13: 569.837 | R13: 455.565 | S13: 502.012 | T13: =SUM(H13:S13) -> 16519.321 | U13: 12980.176 | V13: =SUM(C13:G13)+T13+U13 -> 40596.515
B14: 37408 | C14: 5473.359 | D14: 482.709 | E14: 22081.431 | F14: 28.828 | G14: 36.321 | H14: 2364.411 | I14: 631.219 | J14: 3104.384 | K14: 614.856 | L14: 1382.463 | M14: 1524.898 | N14: 1676.023 | O14: 73.903 | P14: 1133.963 | Q14: 853.732 | R14: 477.258 | S14: 110.274 | T14: =SUM(H14:S14) -> 13947.384 | U14: 8553.774 | V14: =SUM(C14:G14)+T14+U14 -> 50603.806
B15: 37438 | C15: 6406.507 | D15: 1146.008 | E15: 1176.712 | F15: 144.117 | G15: 61.6 | H15: 1715.48 | I15: 1230.477 | J15: 5382.381 | K15: 1097.584 | L15: 1041.182 | M15: 1584.017 | N15: 2033.262 | O15: 93.845 | P15: 1488.761 | Q15: 1068.923 | R15: 931.993 | S15: 279.151 | T15: =SUM(H15:S15) -> 17947.056 | U15: 18022.455 | V15: =SUM(C15:G15)+T15+U15 -> 44904.455
B16: 37469 | C16: 5496.269 | D16: 1510.864 | E16: 1096.464 | F16: 0 | G16: 16.386 | H16: 1988.541 | I16: 893.563 | J16: 5772.096 | K16: 634.324 | L16: 1102.466 | M16: 1051.711 | N16: 1712.675 | O16: 110.742 | P16: 1168.83 | Q16: 1286.018 | R16: 569.212 | S16: 190.104 | T16: =SUM(H16:S16) -> 16480.282 | U16: 10580.898 | V16: =SUM(C16:G16)+T16+U16 -> 35181.163
B17: 37500 | C17: 4656.883 | D17: 382.707 | E17: 520.15 | F17: 155.353 | G17: 15.619 | H17: 2217.046 | I17: 1005.106 | J17: 5102.981 | K17: 611.194 | L17: 1018.527 | M17: 1142.94 | N17: 2232.416 | O17: 71.924 | P17: 818.174 | Q17: 858.93 | R17: 345.774 | S17: 448.29 | T17: =SUM(H17:S17) -> 15873.302 | U17: 9133.139 | V17: =SUM(C17:G17)+T17+U17 -> 30737.153
B18: 37530 | C18: 4946.863 | D18: 907.559 | E18: 2713.764 | F18: 206.4 | G18: 0.7 | H18: 2724.302 | I18: 4230.614 | J18: 2825.924 | K18: 772.765 | L18: 1303.552 | M18: 2579.533 | N18: 1439.798 | O18: 75.695 | P18: 1137.243 | Q18: 720.592 | R18: 158.049 | S18: 178.658 | T18: =SUM(H18:S18) -> 18146.725 | U18: 12008.983 | V18: =SUM(C18:G18)+T18+U18 -> 38930.994
B19: 37561 | C19: 3305.831 | D19: 578.825 | E19: 860.555 | F19: 393.6 | G19: 30.711 | H19: 2914.507 | I19: 2641.62 | J19: 6031.36 | K19: 750.971 | L19: 1409.261 | M19: 1552.481 | N19: 1970.204 | O19: 110.555 | P19: 1165.859 | Q19: 1122.475 | R19: 490.057 | S19: 713.762 | T19: =SUM(H19:S19) -> 20873.112 | U19: 12707.798 | V19: =SUM(C19:G19)+T19+U19 -> 38750.432
B20: 37591 | C20: 4685.244 | D20: 825.194 | E20: 1613.313 | F20: 9 | G20: 30.772 | H20: 2680.683 | I20: 2043.351 | J20: 4110.745 | K20: 448.68 | L20: 1098.916 | M20: 1295.401 | N20: 1493.01 | O20: 66.472 | P20: 1432.014 | Q20: 745.126 | R20: 312.273 | S20: 381.622 | T20: =SUM(H20:S20) -> 16108.293 | U20: 20185.221 | V20: =SUM(C20:G20)+T20+U20 -> 43457.037
... B289: 45778 | C289: 10744.212 | D289: 2886.736 | E289: 647.353 | F289: 0 | G289: 0 | H289: 4315.874 | I289: 3089.183 | J289: 4918.303 | K289: 1318.151 | L289: 2730.356 | M289: 1554.745 | N289: 4284.574 | O289: 27.546 | P289: 2098.696 | Q289: 997.803 | R289: 748.392 | S289: 782.77 | T289: =SUM(H289:S289) -> 26866.393 | U289: 67796.104 | V289: =SUM(C289:G289)+T289+U289 -> 108940.8
B292: Source: Barbados Statistical Service

Sheet G2A
V1: Table G2A
B2: BARBADOS' TRADE IN GOODS - DIRECTION OF TRADE (DOMESTIC EXPORTS)
V3: BD$000
C5: SELECT INTERNATIONAL COUNTRIES | H5: CARICOM | U5: All Other Countries | V5: TOTAL
C6: USA | D6: Canada | E6: UK | F6: Venezuela | G6: Japan | H6: Jamaica | I6: Guyana | J6: Trinidad & Tobago | K6: Dominica | L6: Grenada | M6: St. Vincent | N6: St. Lucia | O6: Montserrat | P6: Antigua | Q6: St. Kitts | R6: Belize | S6: Bahamas | T6: TOTAL
B9: 28491 | C9: NA | D9: NA | E9: NA | F9: NA | G9: NA | H9: 137.105 | I9: 164.323 | J9: 1870.793 | K9: 110.684 | L9: 217.902 | M9: 254.607 | N9: 276.195 | O9: 9.531 | P9: 123.514 | Q9: 68.644 | R9: 2.237 | S9: NA | T9: =SUM(H9:R9) -> 3235.535 | U9: NA | V9: =G2B!W9 -> 6610
B10: 28522 | C10: NA | D10: NA | E10: NA | F10: NA | G10: NA | H10: 41.855 | I10: 195.39 | J10: 1412.276 | K10: 111.903 | L10: 234.611 | M10: 131.7 | N10: 203.378 | O10: 14.599 | P10: 98.207 | Q10: 85.212 | R10: 2.642 | S10: NA | T10: =SUM(H10:R10) -> 2531.773 | U10: NA | V10: =G2B!W10 -> 8474
B11: 28550 | C11: NA | D11: NA | E11: NA | F11: NA | G11: NA | H11: 684.791 | I11: 152.651 | J11: 1820.42 | K11: 161.345 | L11: 211.872 | M11: 256.518 | N11: 317.627 | O11: 83.908 | P11: 243.905 | Q11: 381.454 | R11: 3.089 | S11: NA | T11: =SUM(H11:R11) -> 4317.58 | U11: NA | V11: =G2B!W11 -> 21802
B12: 28581 | C12: NA | D12: NA | E12: NA | F12: NA | G12: NA | H12: 314.626 | I12: 381.282 | J12: 1962.757 | K12: 163.056 | L12: 222.367 | M12: 179.147 | N12: 294.294 | O12: 85.869 | P12: 77.865 | Q12: 158.111 | R12: 2.572 | S12: NA | T12: =SUM(H12:R12) -> 3841.946 | U12: NA | V12: =G2B!W12 -> 17526
B13: 28611 | C13: NA | D13: NA | E13: NA | F13: NA | G13: NA | H13: 518.389 | I13: 98.802 | J13: 2257.146 | K13: 135.37 | L13: 163.295 | M13: 198.662 | N13: 337.723 | O13: 38.796 | P13: 141.099 | Q13: 185.338 | R13: 0.27 | S13: NA | T13: =SUM(H13:R13) -> 4074.89 | U13: NA | V13: =G2B!W13 -> 12898
B14: 28642 | C14: NA | D14: NA | E14: NA | F14: NA | G14: NA | H14: 417.288 | I14: 449.906 | J14: 2115.821 | K14: 172.45 | L14: 289.934 | M14: 220.221 | N14: 418.028 | O14: 22.476 | P14: 158.736 | Q14: 120.601 | R14: 3.592 | S14: NA | T14: =SUM(H14:R14) -> 4389.053 | U14: NA | V14: =G2B!W14 -> 14617
B15: 28672 | C15: NA | D15: NA | E15: NA | F15: NA | G15: NA | H15: 356.133 | I15: 105.501 | J15: 1872.968 | K15: 97.866 | L15: 132.937 | M15: 97.347 | N15: 252.312 | O15: 22.995 | P15: 106.541 | Q15: 91.164 | R15: 1.86 | S15: NA | T15: =SUM(H15:R15) -> 3137.624 | U15: NA | V15: =G2B!W15 -> 17691
B16: 28703 | C16: NA | D16: NA | E16: NA | F16: NA | G16: NA | H16: 1041.498 | I16: 328.91 | J16: 2759.095 | K16: 215.915 | L16: 332.224 | M16: 287.049 | N16: 406.463 | O16: 32.898 | P16: 110.46 | Q16: 192.553 | R16: 0 | S16: NA | T16: =SUM(H16:R16) -> 5707.065 | U16: NA | V16: =G2B!W16 -> 31393
B17: 28734 | C17: NA | D17: NA | E17: NA | F17: NA | G17: NA | H17: 466.879 | I17: 96.338 | J17: 1487.874 | K17: 92.211 | L17: 189.969 | M17: 145.953 | N17: 163.972 | O17: 33.252 | P17: 95.68 | Q17: 149.08 | R17: 2.514 | S17: NA | T17: =SUM(H17:R17) -> 2923.722 | U17: NA | V17: =G2B!W17 -> 18488
B18: 28764 | C18: NA | D18: NA | E18: NA | F18: NA | G18: NA | H18: 461.36 | I18: 67.93 | J18: 3678.7351 | K18: 117.811 | L18: 193.936 | M18: 166.83 | N18: 215.636 | O18: 9.561 | P18: 145.991 | Q18: 106.235 | R18: 3.826 | S18: NA | T18: =SUM(H18:R18) -> 5167.8511 | U18: NA | V18: =G2B!W18 -> 13696
B19: 28795 | C19: NA | D19: NA | E19: NA | F19: NA | G19: NA | H19: 1340.447 | I19: 143.746 | J19: 2638.3579 | K19: 123.585 | L19: 267.552 | M19: 306.28 | N19: 462.79 | O19: 89.366 | P19: 223.77 | Q19: 139.923 | R19: 5.564 | S19: NA | T19: =SUM(H19:R19) -> 5741.3809 | U19: NA | V19: =G2B!W19 -> 15028
B20: 28825 | C20: NA | D20: NA | E20: NA | F20: NA | G20: NA | H20: 1049.504 | I20: 169.639 | J20: 2120.9651 | K20: 113.818 | L20: 299.644 | M20: 143.087 | N20: 310.535 | O20: 30.971 | P20: 85.198 | Q20: 68.263 | R20: 0.07 | S20: NA | T20: =SUM(H20:R20) -> 4391.6941 | U20: NA | V20: =G2B!W20 -> 8227
... B296: 37226 | C296: NA | D296: NA | E296: NA | F296: NA | G296: NA | H296: 2297.091 | I296: 1050.005 | J296: 4029.744 | K296: 468.568 | L296: 882.926 | M296: 996.6 | N296: 1519.507 | O296: 60.131 | P296: 529.974 | Q296: 752.621 | R296: 472.187 | S296: NA | T296: =SUM(H296:R296) -> 13059.354 | U296: NA | V296: =G2B!W296 -> 22353.108
B297: 37257 | C297: 3319.663 | D297: 336.908 | E297: 580.605 | F297: 0.384 | G297: 0 | H297: 3098.235 | I297: 337.416 | J297: 4898.372 | K297: 429.084 | L297: 962.621 | M297: 1460.331 | N297: 1196.519 | O297: 73.746 | P297: 552.096 | Q297: 629.045 | R297: 344.295 | S297: 85.999 | T297: =SUM(H297:S297) -> 14067.759 | U297: 3266.619 | V297: =SUM(C297:G297)+T297+U297 -> 21571.938
B298: 37288 | C298: 6177.502 | D298: 678.332 | E298: 623.184 | F298: 147.586 | G298: 0 | H298: 2947.603 | I298: 1065.648 | J298: 1956.565 | K298: 625.286 | L298: 778.978 | M298: 1437.695 | N298: 1233.8 | O298: 105.989 | P298: 882.711 | Q298: 705.558 | R298: 455.5 | S298: 107.748 | T298: =SUM(H298:S298) -> 12303.081 | U298: 5775.068 | V298: =SUM(C298:G298)+T298+U298 -> 25704.753
B299: 37316 | C299: 3398.615 | D299: 361.204 | E299: 878.341 | F299: 144.409 | G299: 0.035 | H299: 2566.575 | I299: 866.446 | J299: 6000.639 | K299: 608.378 | L299: 639.598 | M299: 1250.069 | N299: 1644.661 | O299: 133.338 | P299: 1320.523 | Q299: 993.962 | R299: 215.75 | S299: 158.134 | T299: =SUM(H299:S299) -> 16398.073 | U299: 3537.813 | V299: =SUM(C299:G299)+T299+U299 -> 24718.49
B300: 37347 | C300: 2972.199 | D300: 726.695 | E300: 15426.874 | F300: 292.177 | G300: 1.84 | H300: 2120.061 | I300: 651.39 | J300: 4509.062 | K300: 607.324 | L300: 856.959 | M300: 955.601 | N300: 1511.54 | O300: 60.637 | P300: 499.507 | Q300: 925.582 | R300: 199.38 | S300: 71.54 | T300: =SUM(H300:S300) -> 12968.583 | U300: 4127.221 | V300: =SUM(C300:G300)+T300+U300 -> 36515.589
B301: 37377 | C301: 6126.589 | D301: 678.41 | E301: 2960.503 | F301: 126.68 | G301: 0 | H301: 1749.794 | I301: 1293.707 | J301: 5012.475 | K301: 496.241 | L301: 691.461 | M301: 1177.13 | N301: 1817.155 | O301: 80.047 | P301: 815.833 | Q301: 530.851 | R301: 449.417 | S301: 368.222 | T301: =SUM(H301:S301) -> 14482.333 | U301: 5890.069 | V301: =SUM(C301:G301)+T301+U301 -> 30264.584
B302: 37408 | C302: 4935.531 | D302: 433.854 | E302: 22020.917 | F302: 1.904 | G302: 36.321 | H302: 2084.868 | I302: 586.77 | J302: 2798.277 | K302: 582.713 | L302: 926.125 | M302: 1357.667 | N302: 1308.609 | O302: 65.54 | P302: 869.791 | Q302: 744.975 | R302: 470.71 | S302: 18.76 | T302: =SUM(H302:S302) -> 11814.805 | U302: 2072.66 | V302: =SUM(C302:G302)+T302+U302 -> 41315.992
B303: 37438 | C303: 5903.51 | D303: 1131.953 | E303: 1038.074 | F303: 144.117 | G303: 61.6 | H303: 1461.453 | I303: 1190.059 | J303: 5211.42 | K303: 1010.349 | L303: 876.963 | M303: 1198.345 | N303: 1433.999 | O303: 62.327 | P303: 1095.371 | Q303: 899.451 | R303: 931.496 | S303: 233.403 | T303: =SUM(H303:S303) -> 15604.636 | U303: 5499.821 | V303: =SUM(C303:G303)+T303+U303 -> 29383.711
B304: 37469 | C304: 4569.825 | D304: 642.803 | E304: 744.842 | F304: 0 | G304: 16.386 | H304: 1706.692 | I304: 830.29 | J304: 5386.417 | K304: 547.522 | L304: 881.756 | M304: 818.86 | N304: 1325.774 | O304: 107.297 | P304: 759.012 | Q304: 1134.047 | R304: 563.992 | S304: 99.437 | T304: =SUM(H304:S304) -> 14161.096 | U304: 3099.479 | V304: =SUM(C304:G304)+T304+U304 -> 23234.431
B305: 37500 | C305: 3972.007 | D305: 372.087 | E305: 474.903 | F305: 155.227 | G305: 15.619 | H305: 1710.484 | I305: 905.486 | J305: 4977.598 | K305: 516.895 | L305: 824.24 | M305: 944.919 | N305: 1644.871 | O305: 69.322 | P305: 624.884 | Q305: 728.591 | R305: 326.307 | S305: 222.226 | T305: =SUM(H305:S305) -> 13495.823 | U305: 3715.631 | V305: =SUM(C305:G305)+T305+U305 -> 22201.297
B306: 37530 | C306: 4343.898 | D306: 895.19 | E306: 2163.647 | F306: 206.4 | G306: 0.7 | H306: 2227.458 | I306: 1410.657 | J306: 2316.63 | K306: 693.534 | L306: 935.728 | M306: 2159.841 | N306: 1126.439 | O306: 71.248 | P306: 763.468 | Q306: 560.941 | R306: 146.534 | S306: 26.98 | T306: =SUM(H306:S306) -> 12439.458 | U306: 3694.643 | V306: =SUM(C306:G306)+T306+U306 -> 23743.936
B307: 37561 | C307: 3061.932 | D307: 508.005 | E307: 832.974 | F307: 393.6 | G307: 30.711 | H307: 2701.012 | I307: 2583.654 | J307: 5601.774 | K307: 666.1 | L307: 1075.681 | M307: 999.581 | N307: 1585.42 | O307: 82.466 | P307: 793.253 | Q307: 981.619 | R307: 486.275 | S307: 222.47 | T307: =SUM(H307:S307) -> 17779.305 | U307: 2314.694 | V307: =SUM(C307:G307)+T307+U307 -> 24921.221
B308: 37591 | C308: 4263.809 | D308: 825.194 | E308: 1581.926 | F308: 9 | G308: 28.397 | H308: 2314.019 | I308: 1995.968 | J308: 3861.947 | K308: 388.889 | L308: 849.812 | M308: 1075.526 | N308: 1129.099 | O308: 43.763 | P308: 1017.701 | Q308: 577.235 | R308: 264.133 | S308: 245.531 | T308: =SUM(H308:S308) -> 13763.623 | U308: 9021.309 | V308: =SUM(C308:G308)+T308+U308 -> 29493.258
... B577: 45778 | C577: 5755.088 | D577: 2821.124 | E577: 255.013 | F577: 0 | G577: 0 | H577: 4139.073 | I577: 3001.647 | J577: 4728.941 | K577: 834.512 | L577: 1287.564 | M577: 919.886 | N577: 3569.623 | O577: 3.6 | P577: 1168.967 | Q577: 786.259 | R577: 736.784 | S577: 615.148 | T577: =SUM(H577:S577) -> 21792.004 | U577: 7079.926 | V577: =SUM(C577:G577)+T577+U577 -> 37703.155
B580: Source: Barbados Statistical Service

Sheet G2B
W1: Table G2B
B2: BARBADOS' TRADE IN GOODS - COMPOSITION OF DOMESTIC EXPORTS
W3: BD$000
C5: FOOD AND BEVERAGES | N5: ALL OTHER COMMODITIES | W5: Total
C6: Sugar | D6: Molasses | E6: Rum | F6: Shrimp | G6: Margarine & Lard | H6: Over Food & Beverages | I6: Chemicals | J6: Electrical Components | K6: Clothing | L6: Sports Equipment | M6: Other Manufacturing | N6: Total | O6: Feeds | P6: Live Animals for Breeding and Recreation | Q6: Cigarettes, Cigars and Tobacco Products | R6: Other Oils and Fats | S6: Other Machinery and Transport Equipment | T6: Crude Materials | U6: Fuel | V6: Unclassified Goods
B9: 28491 | C9: 0 | D9: 0 | E9: 663 | F9: 0 | G9: 380 | H9: 507 | I9: 538 | J9: 694 | K9: 2549 | L9: 0 | M9: 1188 | N9: 91 | O9: NA | P9: NA | Q9: NA | R9: NA | S9: NA | T9: NA | U9: NA | V9: NA | W9: =SUM(C9:N9) -> 6610
B10: 28522 | C10: 0 | D10: 0 | E10: 829 | F10: 0 | G10: 366 | H10: 316 | I10: 445 | J10: 2281 | K10: 3063 | L10: 0 | M10: 1119 | N10: 55 | O10: NA | P10: NA | Q10: NA | R10: NA | S10: NA | T10: NA | U10: NA | V10: NA | W10: =SUM(C10:N10) -> 8474
B11: 28550 | C11: 9684 | D11: 1627 | E11: 222 | F11: 0 | G11: 550 | H11: 821 | I11: 863 | J11: 2453 | K11: 3615 | L11: 0 | M11: 1869 | N11: 98 | O11: NA | P11: NA | Q11: NA | R11: NA | S11: NA | T11: NA | U11: NA | V11: NA | W11: =SUM(C11:N11) -> 21802
B12: 28581 | C12: 6962 | D12: 2 | E12: 576 | F12: 0 | G12: 472 | H12: 773 | I12: 803 | J12: 2970 | K12: 3279 | L12: 0 | M12: 1590 | N12: 99 | O12: NA | P12: NA | Q12: NA | R12: NA | S12: NA | T12: NA | U12: NA | V12: NA | W12: =SUM(C12:N12) -> 17526
B13: 28611 | C13: 687 | D13: 608 | E13: 542 | F13: 0 | G13: 573 | H13: 862 | I13: 676 | J13: 3226 | K13: 3845 | L13: 0 | M13: 1698 | N13: 181 | O13: NA | P13: NA | Q13: NA | R13: NA | S13: NA | T13: NA | U13: NA | V13: NA | W13: =SUM(C13:N13) -> 12898
B14: 28642 | C14: 1572 | D14: 390 | E14: 361 | F14: 47 | G14: 702 | H14: 570 | I14: 1115 | J14: 3688 | K14: 3884 | L14: 0 | M14: 2157 | N14: 131 | O14: NA | P14: NA | Q14: NA | R14: NA | S14: NA | T14: NA | U14: NA | V14: NA | W14: =SUM(C14:N14) -> 14617
B15: 28672 | C15: 7025 | D15: 0 | E15: 41 | F15: 0 | G15: 159 | H15: 341 | I15: 798 | J15: 3519 | K15: 4008 | L15: 0 | M15: 1657 | N15: 143 | O15: NA | P15: NA | Q15: NA | R15: NA | S15: NA | T15: NA | U15: NA | V15: NA | W15: =SUM(C15:N15) -> 17691
B16: 28703 | C16: 13041 | D16: 2207 | E16: 861 | F16: 49 | G16: 781 | H16: 669 | I16: 1003 | J16: 5172 | K16: 4278 | L16: 31 | M16: 3227 | N16: 74 | O16: NA | P16: NA | Q16: NA | R16: NA | S16: NA | T16: NA | U16: NA | V16: NA | W16: =SUM(C16:N16) -> 31393
B17: 28734 | C17: 7078 | D17: 1882 | E17: 199 | F17: 0 | G17: 248 | H17: 518 | I17: 701 | J17: 3497 | K17: 2406 | L17: 517 | M17: 1419 | N17: 23 | O17: NA | P17: NA | Q17: NA | R17: NA | S17: NA | T17: NA | U17: NA | V17: NA | W17: =SUM(C17:N17) -> 18488
B18: 28764 | C18: 1000 | D18: 0 | E18: 0 | F18: 0 | G18: 346 | H18: 665 | I18: 739 | J18: 3907 | K18: 3199 | L18: 529 | M18: 2694 | N18: 617 | O18: NA | P18: NA | Q18: NA | R18: NA | S18: NA | T18: NA | U18: NA | V18: NA | W18: =SUM(C18:N18) -> 13696
B19: 28795 | C19: 0 | D19: 0 | E19: 947 | F19: 0 | G19: 605 | H19: 758 | I19: 656 | J19: 5139 | K19: 3661 | L19: 693 | M19: 2512 | N19: 57 | O19: NA | P19: NA | Q19: NA | R19: NA | S19: NA | T19: NA | U19: NA | V19: NA | W19: =SUM(C19:N19) -> 15028
B20: 28825 | C20: 0 | D20: 0 | E20: 747 | F20: 0 | G20: 248 | H20: 421 | I20: 930 | J20: 1313 | K20: 2813 | L20: 103 | M20: 1600 | N20: 52 | O20: NA | P20: NA | Q20: NA | R20: NA | S20: NA | T20: NA | U20: NA | V20: NA | W20: =SUM(C20:N20) -> 8227
... B152: 32843 | C152: 18 | D152: 0 | E152: 0 | F152: 0 | G152: 443 | H152: 1030 | I152: 2387 | J152: 2309 | K152: 1892 | L152: 0 | M152: 4863 | N152: 230 | O152: NA | P152: NA | Q152: NA | R152: NA | S152: NA | T152: NA | U152: NA | V152: NA | W152: =SUM(C152:N152) -> 13172
B153: 32874 | C153: 0 | D153: 0 | E153: 831 | F153: NA | G153: 211 | H153: 2063 | I153: 2628 | J153: 2554 | K153: 1059 | L153: 0 | M153: 3980 | N153: 88 | O153: NA | P153: NA | Q153: NA | R153: NA | S153: NA | T153: NA | U153: NA | V153: NA | W153: =SUM(C153:N153) -> 13414
B154: 32905 | C154: 0 | D154: 0 | E154: 122 | F154: NA | G154: 34 | H154: 1910 | I154: 3027 | J154: 3031 | K154: 1456 | L154: 0 | M154: 5423 | N154: 95 | O154: NA | P154: NA | Q154: NA | R154: NA | S154: NA | T154: NA | U154: NA | V154: NA | W154: =SUM(C154:N154) -> 15098
B155: 32933 | C155: 13160 | D155: 0 | E155: 1822 | F155: NA | G155: 181 | H155: 2238 | I155: 2802 | J155: 3723 | K155: 1271 | L155: 0 | M155: 5407 | N155: 65 | O155: NA | P155: NA | Q155: NA | R155: NA | S155: NA | T155: NA | U155: NA | V155: NA | W155: =SUM(C155:N155) -> 30669
B156: 32964 | C156: 1026 | D156: 0 | E156: 1346 | F156: NA | G156: 207 | H156: 2108 | I156: 3781 | J156: 2430 | K156: 1612 | L156: 0 | M156: 5135 | N156: 102 | O156: NA | P156: NA | Q156: NA | R156: NA | S156: NA | T156: NA | U156: NA | V156: NA | W156: =SUM(C156:N156) -> 17747
B157: 32994 | C157: 17544 | D157: 0 | E157: 1731 | F157: NA | G157: 208 | H157: 2038 | I157: 3901 | J157: 3104 | K157: 1579 | L157: 0 | M157: 5473 | N157: 146 | O157: NA | P157: NA | Q157: NA | R157: NA | S157: NA | T157: NA | U157: NA | V157: NA | W157: =SUM(C157:N157) -> 35724
B158: 33025 | C158: 27 | D158: 0 | E158: 441 | F158: NA | G158: 204 | H158: 1521 | I158: 3916 | J158: 2469 | K158: 1210 | L158: 0 | M158: 4501 | N158: 46 | O158: NA | P158: NA | Q158: NA | R158: NA | S158: NA | T158: NA | U158: NA | V158: NA | W158: =SUM(C158:N158) -> 14335
B159: 33055 | C159: 22934 | D159: 3084 | E159: 169 | F159: NA | G159: 33 | H159: 1565 | I159: 3038 | J159: 2227 | K159: 1354 | L159: 0 | M159: 4780 | N159: 99 | O159: NA | P159: NA | Q159: NA | R159: NA | S159: NA | T159: NA | U159: NA | V159: NA | W159: =SUM(C159:N159) -> 39283
B160: 33086 | C160: 0 | D160: 0 | E160: 2806 | F160: NA | G160: 158 | H160: 1984 | I160: 2973 | J160: 2282 | K160: 492 | L160: 0 | M160: 5570 | N160: 153 | O160: NA | P160: NA | Q160: NA | R160: NA | S160: NA | T160: NA | U160: NA | V160: NA | W160: =SUM(C160:N160) -> 16418
B161: 33117 | C161: 23 | D161: 0 | E161: 2007 | F161: NA | G161: 58 | H161: 1879 | I161: 2914 | J161: 2431 | K161: 733 | L161: 0 | M161: 4769 | N161: 135 | O161: NA | P161: NA | Q161: NA | R161: NA | S161: NA | T161: NA | U161: NA | V161: NA | W161: =SUM(C161:N161) -> 14949
B162: 33147 | C162: 0 | D162: 0 | E162: 2082 | F162: NA | G162: 223 | H162: 2149 | I162: 4332 | J162: 2285 | K162: 1026 | L162: 0 | M162: 4899 | N162: 61 | O162: NA | P162: NA | Q162: NA | R162: NA | S162: NA | T162: NA | U162: NA | V162: NA | W162: =SUM(C162:N162) -> 17057
B163: 33178 | C163: 46 | D163: 0 | E163: 0 | F163: NA | G163: 178 | H163: 2282 | I163: 3801 | J163: 3259 | K163: 2186 | L163: 0 | M163: 5289 | N163: 131 | O163: NA | P163: NA | Q163: NA | R163: NA | S163: NA | T163: NA | U163: NA | V163: NA | W163: =SUM(C163:N163) -> 17172
B164: 33208 | C164: 0 | D164: 0 | E164: 1460 | F164: NA | G164: 120 | H164: 1547 | I164: 3131 | J164: 1850 | K164: 1188 | L164: 0 | M164: 3569 | N164: 89 | O164: NA | P164: NA | Q164: NA | R164: NA | S164: NA | T164: NA | U164: NA | V164: NA | W164: =SUM(C164:N164) -> 12954
B165: 33239 | C165: 0 | D165: 0 | E165: 1 | F165: 0 | G165: 71 | H165: 2279 | I165: 2510 | J165: 2599 | K165: 702 | L165: 0 | M165: 3345 | N165: 100 | O165: NA | P165: NA | Q165: NA | R165: NA | S165: NA | T165: NA | U165: NA | V165: NA | W165: =SUM(C165:N165) -> 11607
B166: 33270 | C166: 23 | D166: 0 | E166: 733 | F166: 0 | G166: 101 | H166: 2246 | I166: 2813 | J166: 2281 | K166: 1090 | L166: 0 | M166: 3896 | N166: 250 | O166: NA | P166: NA | Q166: NA | R166: NA | S166: NA | T166: NA | U166: NA | V166: NA | W166: =SUM(C166:N166) -> 13433
B167: 33298 | C167: 16704 | D167: 0 | E167: 1258 | F167: 0 | G167: 74 | H167: 2087 | I167: 3768 | J167: 3173 | K167: 1429 | L167: 0 | M167: 4172 | N167: 382 | O167: NA | P167: NA | Q167: NA | R167: NA | S167: NA | T167: NA | U167: NA | V167: NA | W167: =SUM(C167:N167) -> 33047
B168: 33329 | C168: 999 | D168: 0 | E168: 46 | F168: 0 | G168: 0 | H168: 2688 | I168: 2927 | J168: 2574 | K168: 1017 | L168: 0 | M168: 5325 | N168: 250 | O168: NA | P168: NA | Q168: NA | R168: NA | S168: NA | T168: NA | U168: NA | V168: NA | W168: =SUM(C168:N168) -> 15826
B169: 33359 | C169: 22030 | D169: 1620 | E169: 8 | F169: 0 | G169: 0 | H169: 3044 | I169: 3491 | J169: 3024 | K169: 1098 | L169: 0 | M169: 5967 | N169: 50 | O169: NA | P169: NA | Q169: NA | R169: NA | S169: NA | T169: NA | U169: NA | V169: NA | W169: =SUM(C169:N169) -> 40332
B170: 33390 | C170: 990 | D170: 2 | E170: 16 | F170: 0 | G170: 0 | H170: 2434 | I170: 3708 | J170: 2915 | K170: 1256 | L170: 0 | M170: 4914 | N170: 41 | O170: NA | P170: NA | Q170: NA | R170: NA | S170: NA | T170: NA | U170: NA | V170: NA | W170: =SUM(C170:N170) -> 16276
B171: 33420 | C171: 12912 | D171: 3612 | E171: 9 | F171: 0 | G171: 0 | H171: 3970 | I171: 3915 | J171: 2835 | K171: 1378 | L171: 0 | M171: 4705 | N171: 107 | O171: NA | P171: NA | Q171: NA | R171: NA | S171: NA | T171: NA | U171: NA | V171: NA | W171: =SUM(C171:N171) -> 33443
B172: 33451 | C172: 23 | D172: 0 | E172: 7 | F172: 0 | G172: 0 | H172: 2654 | I172: 3026 | J172: 2160 | K172: 740 | L172: 0 | M172: 4559 | N172: 69 | O172: NA | P172: NA | Q172: NA | R172: NA | S172: NA | T172: NA | U172: NA | V172: NA | W172: =SUM(C172:N172) -> 13238
B173: 33482 | C173: 0 | D173: 0 | E173: 29 | F173: 0 | G173: 0 | H173: 3867 | I173: 3391 | J173: 2983 | K173: 1713 | L173: 0 | M173: 3939 | N173: 25 | O173: NA | P173: NA | Q173: NA | R173: NA | S173: NA | T173: NA | U173: NA | V173: NA | W173: =SUM(C173:N173) -> 15947
B174: 33512 | C174: 48 | D174: 0 | E174: 23 | F174: 0 | G174: 0 | H174: 4284 | I174: 3862 | J174: 2860 | K174: 1895 | L174: 0 | M174: 4448 | N174: 184 | O174: NA | P174: NA | Q174: NA | R174: NA | S174: NA | T174: NA | U174: NA | V174: NA | W174: =SUM(C174:N174) -> 17604
...

Sheet G3A
V1: Table G3A
B2: BARBADOS' TRADE IN GOODS - DIRECTION OF TRADE (IMPORTS)
V3: BD$000
C5: SELECT INTERNATIONAL COUNTRIES | H5: CARICOM | U5: All Other Countries | V5: TOTAL
C6: USA | D6: Canada | E6: UK | F6: Venezuela | G6: Japan | H6: Jamaica | I6: Guyana | J6: Trinidad & Tobago | K6: Dominica | L6: Grenada | M6: St. Vincent | N6: St. Lucia | O6: Montserrat | P6: Antigua | Q6: St. Kitts | R6: Belize | S6: Bahamas | T6: TOTAL
B9: 28491 | C9: NA | D9: NA | E9: NA | F9: NA | G9: NA | H9: 943.621 | I9: 772.771 | J9: 4992.1079 | K9: 143.154 | L9: 19.605 | M9: 102.052 | N9: 176.337 | O9: 9.419 | P9: 9.768 | Q9: 14.635 | R9: 146.427 | S9: NA | T9: =SUM(H9:R9) -> 7329.8969 | U9: NA
B10: 28522 | C10: NA | D10: NA | E10: NA | F10: NA | G10: NA | H10: 828.849 | I10: 1038.5031 | J10: 3830.6289 | K10: 120.111 | L10: 3.228 | M10: 104.817 | N10: 457.495 | O10: 2.691 | P10: 40.352 | Q10: 4.949 | R10: 0 | S10: NA | T10: =SUM(H10:R10) -> 6431.624 | U10: NA
B11: 28550 | C11: NA | D11: NA | E11: NA | F11: NA | G11: NA | H11: 819.076 | I11: 148.619 | J11: 4559.9771 | K11: 144.707 | L11: 12.133 | M11: 166.584 | N11: 650.825 | O11: 4.745 | P11: 239.109 | Q11: 41.78 | R11: 0 | S11: NA | T11: =SUM(H11:R11) -> 6787.5551 | U11: NA
B12: 28581 | C12: NA | D12: NA | E12: NA | F12: NA | G12: NA | H12: 1024.642 | I12: 701.125 | J12: 5555.6328 | K12: 244 | L12: 23.128 | M12: 85.318 | N12: 650.894 | O12: 0 | P12: 24.076 | Q12: 16.174 | R12: 166.978 | S12: NA | T12: =SUM(H12:R12) -> 8491.9678 | U12: NA
B13: 28611 | C13: NA | D13: NA | E13: NA | F13: NA | G13: NA | H13: 1327.2939 | I13: 902.732 | J13: 4265.8818 | K13: 191.317 | L13: 30.705 | M13: 211.005 | N13: 254.422 | O13: 0.791 | P13: 199.503 | Q13: 0.105 | R13: 0.8 | S13: NA | T13: =SUM(H13:R13) -> 7384.5557 | U13: NA
B14: 28642 | C14: NA | D14: NA | E14: NA | F14: NA | G14: NA | H14: 1630.744 | I14: 1175.134 | J14: 5494.8311 | K14: 189.557 | L14: 24.097 | M14: 118.575 | N14: 342.177 | O14: 0 | P14: 57.785 | Q14: 7.977 | R14: 0 | S14: NA | T14: =SUM(H14:R14) -> 9040.8771 | U14: NA
B15: 28672 | C15: NA | D15: NA | E15: NA | F15: NA | G15: NA | H15: 832.215 | I15: 537.927 | J15: 4327.4922 | K15: 72.009 | L15: 71.612 | M15: 198.197 | N15: 340.473 | O15: 0.118 | P15: 55.96 | Q15: 24.881 | R15: 0 | S15: NA | T15: =SUM(H15:R15) -> 6460.8842 | U15: NA
B16: 28703 | C16: NA | D16: NA | E16: NA | F16: NA | G16: NA | H16: 1708.188 | I16: 314.332 | J16: 5595.8149 | K16: 72.435 | L16: 7.5 | M16: 213.17 | N16: 505.72 | O16: 2.091 | P16: 54.045 | Q16: 15.974 | R16: 0 | S16: NA | T16: =SUM(H16:R16) -> 8489.2699 | U16: NA
B17: 28734 | C17: NA | D17: NA | E17: NA | F17: NA | G17: NA | H17: 1791.196 | I17: 908.852 | J17: 3253.8601 | K17: 110.986 | L17: 20.103 | M17: 194.631 | N17: 436.42 | O17: 3.812 | P17: 25.259 | Q17: 0.13 | R17: 0 | S17: NA | T17: =SUM(H17:R17) -> 6745.2491 | U17: NA
B18: 28764 | C18: NA | D18: NA | E18: NA | F18: NA | G18: NA | H18: 1042.38 | I18: 802.846 | J18: 5596.5059 | K18: 241.129 | L18: 0.08 | M18: 426.47 | N18: 396.372 | O18: 3.623 | P18: 187.302 | Q18: 35.622 | R18: 0 | S18: NA | T18: =SUM(H18:R18) -> 8732.3299 | U18: NA
B19: 28795 | C19: NA | D19: NA | E19: NA | F19: NA | G19: NA | H19: 1411.3409 | I19: 952.842 | J19: 4706.8232 | K19: 92.351 | L19: 74.972 | M19: 258.411 | N19: 381.808 | O19: 2.035 | P19: 167.505 | Q19: 22.753 | R19: 0 | S19: NA | T19: =SUM(H19:R19) -> 8070.8411 | U19: NA
B20: 28825 | C20: NA | D20: NA | E20: NA | F20: NA | G20: NA | H20: 1631.574 | I20: 1049.209 | J20: 4453.0322 | K20: 93.12 | L20: 0.74 | M20: 282.988 | N20: 353.742 | O20: 0 | P20: 138.702 | Q20: 55.744 | R20: 18.029 | S20: NA | T20: =SUM(H20:R20) -> 8076.8802 | U20: NA
... B296: 37226 | C296: NA | D296: NA | E296: NA | F296: NA | G296: NA | H296: 2292.593 | I296: 2276.035 | J296: 29207.202 | K296: 290.754 | L296: 297.589 | M296: 733.889 | N296: 1117.891 | O296: 0 | P296: 1.797 | Q296: 0 | R296: 240.993 | S296: NA | T296: =SUM(H296:R296) -> 36458.743 | U296: NA
B297: 37257 | C297: 65699.716 | D297: 4967.465 | E297: 10982.014 | F297: 874.977 | G297: 5727.693 | H297: 773.75 | I297: 1819.344 | J297: 23458.469 | K297: 138.682 | L297: 197.899 | M297: 643.582 | N297: 827.325 | O297: 0 | P297: 12.928 | Q297: 35.92 | R297: 194.402 | S297: 22.7 | T297: =SUM(H297:S297) -> 28125.001 | U297: 38668.374 | V297: =SUM(C297:G297)+T297+U297 -> 155045.24
B298: 37288 | C298: 69855.939 | D298: 5436.658 | E298: 10253.751 | F298: 709.692 | G298: 5877.343 | H298: 1441.482 | I298: 1605.895 | J298: 22616.765 | K298: 101.08 | L298: 208.203 | M298: 649.83 | N298: 1157.803 | O298: 0 | P298: 14.616 | Q298: 55.919 | R298: 0.223 | S298: 20.72 | T298: =SUM(H298:S298) -> 27872.536 | U298: 33502.594 | V298: =SUM(C298:G298)+T298+U298 -> 153508.51
B299: 37316 | C299: 79348.186 | D299: 5262.324 | E299: 10451.873 | F299: 145.383 | G299: 4179.551 | H299: 1757.648 | I299: 2258.582 | J299: 27635.949 | K299: 431.367 | L299: 113.795 | M299: 656.903 | N299: 644.315 | O299: 0 | P299: 15.097 | Q299: 33.705 | R299: 607.491 | S299: 50.335 | T299: =SUM(H299:S299) -> 34205.187 | U299: 34776.115 | V299: =SUM(C299:G299)+T299+U299 -> 168368.62
B300: 37347 | C300: 82309.675 | D300: 7158.632 | E300: 12898.194 | F300: 480.358 | G300: 8973.008 | H300: 1538.885 | I300: 2487.99 | J300: 28503.655 | K300: 180.308 | L300: 250.916 | M300: 866.484 | N300: 848.155 | O300: 0 | P300: 0.865 | Q300: 51.244 | R300: 60.879 | S300: 3.45 | T300: =SUM(H300:S300) -> 34792.831 | U300: 41622.577 | V300: =SUM(C300:G300)+T300+U300 -> 188235.27
B301: 37377 | C301: 72333.554 | D301: 6807.218 | E301: 12761.297 | F301: 1552.575 | G301: 7755.466 | H301: 1773.744 | I301: 2217.508 | J301: 33217.119 | K301: 416.766 | L301: 281.858 | M301: 750.215 | N301: 816.603 | O301: 0 | P301: 1.799 | Q301: 38.503 | R301: 555.324 | S301: 45.606 | T301: =SUM(H301:S301) -> 40115.045 | U301: 41141.891 | V301: =SUM(C301:G301)+T301+U301 -> 182467.05
B302: 37408 | C302: 59430.547 | D302: 5867.927 | E302: 9461.686 | F302: 415.683 | G302: 6862.764 | H302: 1279.092 | I302: 1253.052 | J302: 17432.463 | K302: 325.496 | L302: 134.958 | M302: 502.644 | N302: 1032.306 | O302: 0 | P302: 8.279 | Q302: 1.224 | R302: 157.795 | S302: 39.719 | T302: =SUM(H302:S302) -> 22167.028 | U302: 45619.158 | V302: =SUM(C302:G302)+T302+U302 -> 149824.79
B303: 37438 | C303: 77657.372 | D303: 7537.229 | E303: 14545.959 | F303: 947.657 | G303: 11649.102 | H303: 1992.333 | I303: 1533.313 | J303: 33536.094 | K303: 189.357 | L303: 339.907 | M303: 711.092 | N303: 693.041 | O303: 0 | P303: 1.88 | Q303: 1.256 | R303: 475.573 | S303: 19.267 | T303: =SUM(H303:S303) -> 39493.113 | U303: 58613.209 | V303: =SUM(C303:G303)+T303+U303 -> 210443.64
B304: 37469 | C304: 62866.309 | D304: 4434.66 | E304: 11304.222 | F304: 347.449 | G304: 7497.232 | H304: 1759.639 | I304: 1472.606 | J304: 27499.084 | K304: 343.503 | L304: 194.641 | M304: 780.679 | N304: 1027.452 | O304: 0 | P304: 6.398 | Q304: 0.4 | R304: 510.791 | S304: 48.951 | T304: =SUM(H304:S304) -> 33644.144 | U304: 46170.059 | V304: =SUM(C304:G304)+T304+U304 -> 166264.07
B305: 37500 | C305: 55371.828 | D305: 7079.218 | E305: 13993.994 | F305: 833.023 | G305: 6854.047 | H305: 1293.823 | I305: 1132.855 | J305: 35143.903 | K305: 86.742 | L305: 187.7 | M305: 842.122 | N305: 581.374 | O305: 0 | P305: 2.239 | Q305: 20.1 | R305: 161.481 | S305: 0 | T305: =SUM(H305:S305) -> 39452.339 | U305: 39761.608 | V305: =SUM(C305:G305)+T305+U305 -> 163346.06
B306: 37530 | C306: 74629.614 | D306: 7343.537 | E306: 17229.021 | F306: 586.51 | G306: 8879.903 | H306: 1696.92 | I306: 1651.175 | J306: 41214.081 | K306: 500.796 | L306: 357.127 | M306: 814.268 | N306: 1084.652 | O306: 0 | P306: 75.866 | Q306: 37.538 | R306: 561.216 | S306: 69.489 | T306: =SUM(H306:S306) -> 48063.128 | U306: 48349.363 | V306: =SUM(C306:G306)+T306+U306 -> 205081.08
B307: 37561 | C307: 84451.926 | D307: 6692.75 | E307: 19106.925 | F307: 1541.685 | G307: 8136.334 | H307: 1646.283 | I307: 1551.56 | J307: 41121.75 | K307: 382.003 | L307: 196.863 | M307: 999.836 | N307: 1297.03 | O307: 0 | P307: 9.644 | Q307: 6.287 | R307: 434.661 | S307: 26.23 | T307: =SUM(H307:S307) -> 47672.147 | U307: 50087.761 | V307: =SUM(C307:G307)+T307+U307 -> 217689.53
B308: 37591 | C308: 66671.967 | D308: 6184.407 | E308: 14412.799 | F308: 518.528 | G308: 7688.624 | H308: 1712.945 | I308: 2166.521 | J308: 28385.325 | K308: 193.803 | L308: 285.444 | M308: 628.295 | N308: 1087.745 | O308: 0 | P308: 0.135 | Q308: 74.448 | R308: 376.523 | S308: 6.114 | T308: =SUM(H308:S308) -> 34917.298 | U308: 50877.67 | V308: =SUM(C308:G308)+T308+U308 -> 181271.29
... B577: 45778 | C577: 148360.79 | D577: 9167.647 | E577: 22659.145 | F577: 38.546 | G577: 11901.157 | H577: 4317.923 | I577: 1890.86 | J577: 47768.17 | K577: 2.119 | L577: 83.876 | M577: 713.709 | N577: 675.854 | O577: 0 | P577: 1.096 | Q577: 304.843 | R577: 930.461 | S577: 1.049 | T577: =SUM(H577:S577) -> 56689.96 | U577: 117686.19 | V577: =SUM(C577:G577)+T577+U577 -> 366503.43
B580: Source: Barbados Statistical Service

Sheet G3B
W1: Table G3B
B2: BARBADOS' TRADE IN GOODS - IMPORTS BY COMMODITY GROUPINGS
W3: BD$000
C5: CONSUMER GOODS | K5: INTERMEDIATE GOODS | S5: CAPITAL GOODS | W5: TOTAL
C6: NON-DURABLE | F6: DURABLE | J6: TOTAL CONSUMER
C7: Food and Beverages | D7: Other | E7: Total Non-Durable | F7: Motor Cars | G7: Other | H7: Total Durable | I7: Other Manufactured Goods | K7: Fuel | L7: Electrical Components | M7: Construction Materials | N7: Chemicals | O7: Textiles | P7: Feed, Fat & Crude Materials | Q7: Other Manufactures | R7: TOTAL INTERMEDIATE | S7: Machinery | T7: Other | U7: TOTAL CAPITAL | V7: Unclassified Goods
B10: 37257 | C10: 26360.194 | D10: 14004.66 | E10: =SUM(C10:D10) -> 40364.854 | F10: 4935.906 | G10: 4917.55 | H10: =F10+G10 -> 9853.456 | I10: 15647.378 | J10: =E10+H10+I10 -> 65865.688 | K10: 19071.595 | L10: 2857.397 | M10: 10924.866 | N10: 9063.727 | O10: 1853.722 | P10: 3600.147 | Q10: 11361.671 | R10: =SUM(K10:Q10) -> 58733.125 | S10: 27862.31 | T10: 1886.516 | U10: =SUM(S10:T10) -> 29748.826 | V10: 697.601 | W10: =J10+R10+U10+V10 -> 155045.24
B11: 37288 | C11: 28151.244 | D11: 16257.243 | E11: =SUM(C11:D11) -> 44408.487 | F11: 3843.205 | G11: 6622.127 | H11: =F11+G11 -> 10465.332 | I11: 14210.452 | J11: =E11+H11+I11 -> 69084.271 | K11: 14801.657 | L11: 4492.317 | M11: 10595.591 | N11: 8955.748 | O11: 2289.187 | P11: 4907.714 | Q11: 11287.18 | R11: =SUM(K11:Q11) -> 57329.394 | S11: 24414.69 | T11: 2278.397 | U11: =SUM(S11:T11) -> 26693.087 | V11: 401.761 | W11: =J11+R11+U11+V11 -> 153508.51
B12: 37316 | C12: 27946.792 | D12: 18854.028 | E12: =SUM(C12:D12) -> 46800.82 | F12: 2750.953 | G12: 5883.345 | H12: =F12+G12 -> 8634.298 | I12: 11713.407 | J12: =E12+H12+I12 -> 67148.525 | K12: 20586.907 | L12: 5213.941 | M12: 12297.867 | N12: 8220.151 | O12: 1997.259 | P12: 3111.483 | Q12: 12242.08 | R12: =SUM(K12:Q12) -> 63669.688 | S12: 33257.175 | T12: 3708.691 | U12: =SUM(S12:T12) -> 36965.866 | V12: 584.54 | W12: =J12+R12+U12+V12 -> 168368.62
B13: 37347 | C13: 26978.891 | D13: 17423.265 | E13: =SUM(C13:D13) -> 44402.156 | F13: 6181.07 | G13: 7441.619 | H13: =F13+G13 -> 13622.689 | I13: 10070.074 | J13: =E13+H13+I13 -> 68094.919 | K13: 21998.331 | L13: 5124.302 | M13: 13731.789 | N13: 10202.419 | O13: 1852.513 | P13: 2246.999 | Q13: 14074.095 | R13: =SUM(K13:Q13) -> 69230.448 | S13: 46753.26 | T13: 3556.026 | U13: =SUM(S13:T13) -> 50309.286 | V13: 600.622 | W13: =J13+R13+U13+V13 -> 188235.27
B14: 37377 | C14: 31924.091 | D14: 16169.75 | E14: =SUM(C14:D14) -> 48093.841 | F14: 5647.094 | G14: 6943.561 | H14: =F14+G14 -> 12590.655 | I14: 12481.742 | J14: =E14+H14+I14 -> 73166.238 | K14: 24738.305 | L14: 3772.969 | M14: 16578.437 | N14: 10911.995 | O14: 3386.39 | P14: 4271.348 | Q14: 14026.788 | R14: =SUM(K14:Q14) -> 77686.232 | S14: 28573.196 | T14: 2504.874 | U14: =SUM(S14:T14) -> 31078.07 | V14: 536.506 | W14: =J14+R14+U14+V14 -> 182467.05
B15: 37408 | C15: 25119.821 | D15: 17019.897 | E15: =SUM(C15:D15) -> 42139.718 | F15: 5314.559 | G15: 5729.926 | H15: =F15+G15 -> 11044.485 | I15: 11670.183 | J15: =E15+H15+I15 -> 64854.386 | K15: 16173.152 | L15: 3291.12 | M15: 8377.568 | N15: 9570.312 | O15: 2342.783 | P15: 4314.679 | Q15: 11042.413 | R15: =SUM(K15:Q15) -> 55112.027 | S15: 26634.204 | T15: 2677.194 | U15: =SUM(S15:T15) -> 29311.398 | V15: 546.982 | W15: =J15+R15+U15+V15 -> 149824.79
B16: 37438 | C16: 28244.833 | D16: 19054.662 | E16: =SUM(C16:D16) -> 47299.495 | F16: 7099.136 | G16: 6734.279 | H16: =F16+G16 -> 13833.415 | I16: 12967.953 | J16: =E16+H16+I16 -> 74100.863 | K16: 25900.235 | L16: 4560.506 | M16: 14666.589 | N16: 9181.618 | O16: 3107.385 | P16: 3579.857 | Q16: 15618.933 | R16: =SUM(K16:Q16) -> 76615.123 | S16: 56023.821 | T16: 3200.41 | U16: =SUM(S16:T16) -> 59224.231 | V16: 503.424 | W16: =J16+R16+U16+V16 -> 210443.64
B17: 37469 | C17: 26877.745 | D17: 16435.463 | E17: =SUM(C17:D17) -> 43313.208 | F17: 5327.909 | G17: 7838.843 | H17: =F17+G17 -> 13166.752 | I17: 14627.728 | J17: =E17+H17+I17 -> 71107.688 | K17: 19791.624 | L17: 3728.474 | M17: 13824.612 | N17: 7475.366 | O17: 2520.612 | P17: 3527.136 | Q17: 13266.903 | R17: =SUM(K17:Q17) -> 64134.727 | S17: 27115.277 | T17: 3243.871 | U17: =SUM(S17:T17) -> 30359.148 | V17: 662.512 | W17: =J17+R17+U17+V17 -> 166264.07
B18: 37500 | C18: 26669.881 | D18: 15756.823 | E18: =SUM(C18:D18) -> 42426.704 | F18: 5285.703 | G18: 7804.31 | H18: =F18+G18 -> 13090.013 | I18: 10352.481 | J18: =E18+H18+I18 -> 65869.198 | K18: 26248.481 | L18: 3914.662 | M18: 8958.309 | N18: 8701.428 | O18: 2647.165 | P18: 2842.097 | Q18: 14622.934 | R18: =SUM(K18:Q18) -> 67935.076 | S18: 26318.007 | T18: 2606.805 | U18: =SUM(S18:T18) -> 28924.812 | V18: 616.971 | W18: =J18+R18+U18+V18 -> 163346.06
B19: 37530 | C19: 32895.705 | D19: 18904.996 | E19: =SUM(C19:D19) -> 51800.701 | F19: 7989.068 | G19: 8593.616 | H19: =F19+G19 -> 16582.684 | I19: 19715.365 | J19: =E19+H19+I19 -> 88098.75 | K19: 28635.253 | L19: 4508.684 | M19: 16708.185 | N19: 8760.375 | O19: 4726.693 | P19: 3061.578 | Q19: 15489.526 | R19: =SUM(K19:Q19) -> 81890.294 | S19: 31349.919 | T19: 3003.593 | U19: =SUM(S19:T19) -> 34353.512 | V19: 738.52 | W19: =J19+R19+U19+V19 -> 205081.08
B20: 37561 | C20: 32749.054 | D20: 27358.101 | E20: =SUM(C20:D20) -> 60107.155 | F20: 6034.291 | G20: 11481.864 | H20: =F20+G20 -> 17516.155 | I20: 20015.203 | J20: =E20+H20+I20 -> 97638.513 | K20: 33086.191 | L20: 3312.091 | M20: 16943.271 | N20: 9263.8 | O20: 4700.618 | P20: 3964.388 | Q20: 15954.932 | R20: =SUM(K20:Q20) -> 87225.291 | S20: 28180.027 | T20: 3829.884 | U20: =SUM(S20:T20) -> 32009.911 | V20: 815.813 | W20: =J20+R20+U20+V20 -> 217689.53
B21: 37591 | C21: 30063.447 | D21: 20444.398 | E21: =SUM(C21:D21) -> 50507.845 | F21: 7136.414 | G21: 9162.154 | H21: =F21+G21 -> 16298.568 | I21: 13727.573 | J21: =E21+H21+I21 -> 80533.986 | K21: 20836.309 | L21: 2363.019 | M21: 13148.085 | N21: 8601.533 | O21: 2285.839 | P21: 4255.803 | Q21: 13176.981 | R21: =SUM(K21:Q21) -> 64667.569 | S21: 33341.907 | T21: 1950.809 | U21: =SUM(S21:T21) -> 35292.716 | V21: 777.022 | W21: =J21+R21+U21+V21 -> 181271.29
... B290: 45778 | C290: 80402.874 | D290: 26221.329 | E290: =SUM(C290:D290) -> 106624.2 | F290: 24881.603 | G290: 14246.29 | H290: =F290+G290 -> 39127.893 | I290: 19547.19 | J290: =E290+H290+I290 -> 165299.29 | K290: 44159.151 | L290: 5591.209 | M290: 28584.616 | N290: 15767.453 | O290: 3149.254 | P290: 9966.391 | Q290: 23997.682 | R290: =SUM(K290:Q290) -> 131215.76 | S290: 62890.09 | T290: 5378.237 | U290: =SUM(S290:T290) -> 68268.327 | V290: 1720.064 | W290: =J290+R290+U290+V290 -> 366503.43
B293: Source: Barbados Statistical Service

Sheet G4A
V1: Table G4A
B2: BARBADOS' TRADE IN GOODS - DIRECTION OF TRADE (RE- EXPORTS)
V3: BD$000
C5: SELECT INTERNATIONAL COUNTRIES | H5: CARICOM | U5: All Other Countries | V5: TOTAL
C6: USA | D6: Canada | E6: UK | F6: Venezuela | G6: Japan | H6: Jamaica | I6: Guyana | J6: Trinidad & Tobago | K6: Dominica | L6: Grenada | M6: St. Vincent | N6: St. Lucia | O6: Montserrat | P6: Antigua | Q6: St. Kitts | R6: Belize | S6: Bahamas | T6: TOTAL
B9: 37257 | C9: 879.439 | D9: 25.212 | E9: 416.291 | F9: 0 | G9: 53.45 | H9: 357.747 | I9: 0.285 | J9: 153.453 | K9: 34.018 | L9: 296.887 | M9: 130.347 | N9: 685.355 | O9: 6.896 | P9: 163.195 | Q9: 37.803 | R9: 0 | S9: 502.384 | T9: =SUM(H9:S9) -> 2368.37 | U9: 9867.304 | V9: =SUM(C9:G9)+T9+U9 -> 13610.066
B10: 37288 | C10: 780.753 | D10: 11.471 | E10: 121.92 | F10: 10.11 | G10: 0 | H10: 197.594 | I10: 20.915 | J10: 410.931 | K10: 175.305 | L10: 151.728 | M10: 195.653 | N10: 343.749 | O10: 39.949 | P10: 163.691 | Q10: 90.115 | R10: 14.147 | S10: 239.612 | T10: =SUM(H10:S10) -> 2043.389 | U10: 6808.33 | V10: =SUM(C10:G10)+T10+U10 -> 9775.973
B11: 37316 | C11: 786.146 | D11: 20.074 | E11: 61.035 | F11: 1.2 | G11: 0 | H11: 26.769 | I11: 20.294 | J11: 972.025 | K11: 130.716 | L11: 209.919 | M11: 314.746 | N11: 706.902 | O11: 14.796 | P11: 765.985 | Q11: 192.129 | R11: 17.4 | S11: 106.086 | T11: =SUM(H11:S11) -> 3477.767 | U11: 8284.548 | V11: =SUM(C11:G11)+T11+U11 -> 12630.77
B12: 37347 | C12: 2793.282 | D12: 309.666 | E12: 168.556 | F12: 0 | G12: 5.727 | H12: 245.313 | I12: 100.086 | J12: 1291.571 | K12: 30.079 | L12: 255.766 | M12: 301.457 | N12: 575.571 | O12: 0.848 | P12: 446.471 | Q12: 112.897 | R12: 0.238 | S12: 50.508 | T12: =SUM(H12:S12) -> 3410.805 | U12: 8576.785 | V12: =SUM(C12:G12)+T12+U12 -> 15264.821
B13: 37377 | C13: 1079.839 | D13: 41.341 | E13: 83.656 | F13: 0 | G13: 0 | H13: 170.607 | I13: 16.482 | J13: 225.251 | K13: 110.206 | L13: 113.253 | M13: 193.399 | N13: 568.261 | O13: 2.345 | P13: 458.26 | Q13: 38.986 | R13: 6.148 | S13: 133.79 | T13: =SUM(H13:S13) -> 2036.988 | U13: 7090.107 | V13: =SUM(C13:G13)+T13+U13 -> 10331.931
B14: 37408 | C14: 537.828 | D14: 48.855 | E14: 60.514 | F14: 26.924 | G14: 0 | H14: 279.543 | I14: 44.449 | J14: 306.107 | K14: 32.143 | L14: 456.338 | M14: 167.231 | N14: 367.414 | O14: 8.363 | P14: 264.172 | Q14: 108.757 | R14: 6.548 | S14: 91.514 | T14: =SUM(H14:S14) -> 2132.579 | U14: 6481.114 | V14: =SUM(C14:G14)+T14+U14 -> 9287.814
B15: 37438 | C15: 502.997 | D15: 14.055 | E15: 138.638 | F15: 0 | G15: 0 | H15: 254.027 | I15: 40.418 | J15: 170.961 | K15: 87.235 | L15: 164.219 | M15: 385.672 | N15: 599.263 | O15: 31.518 | P15: 393.39 | Q15: 169.472 | R15: 0.497 | S15: 45.748 | T15: =SUM(H15:S15) -> 2342.42 | U15: 12522.634 | V15: =SUM(C15:G15)+T15+U15 -> 15520.744
B16: 37469 | C16: 926.444 | D16: 868.061 | E16: 351.622 | F16: 0 | G16: 0 | H16: 281.849 | I16: 63.273 | J16: 385.679 | K16: 86.802 | L16: 220.71 | M16: 232.851 | N16: 386.901 | O16: 3.445 | P16: 409.818 | Q16: 151.971 | R16: 5.22 | S16: 90.667 | T16: =SUM(H16:S16) -> 2319.186 | U16: 7481.419 | V16: =SUM(C16:G16)+T16+U16 -> 11946.732
B17: 37500 | C17: 684.876 | D17: 10.62 | E17: 45.247 | F17: 0.126 | G17: 0 | H17: 506.562 | I17: 99.62 | J17: 125.383 | K17: 94.299 | L17: 194.287 | M17: 198.021 | N17: 587.545 | O17: 2.602 | P17: 193.29 | Q17: 130.339 | R17: 19.467 | S17: 226.064 | T17: =SUM(H17:S17) -> 2377.479 | U17: 5417.508 | V17: =SUM(C17:G17)+T17+U17 -> 8535.856
B18: 37530 | C18: 602.965 | D18: 12.369 | E18: 550.117 | F18: 0 | G18: 0 | H18: 496.844 | I18: 2819.957 | J18: 509.294 | K18: 79.231 | L18: 367.824 | M18: 419.692 | N18: 313.359 | O18: 4.447 | P18: 373.775 | Q18: 159.651 | R18: 11.515 | S18: 151.678 | T18: =SUM(H18:S18) -> 5707.267 | U18: 8314.34 | V18: =SUM(C18:G18)+T18+U18 -> 15187.058
B19: 37561 | C19: 243.899 | D19: 70.82 | E19: 27.581 | F19: 0 | G19: 0 | H19: 213.495 | I19: 57.966 | J19: 429.586 | K19: 84.871 | L19: 333.58 | M19: 552.9 | N19: 384.784 | O19: 28.089 | P19: 372.606 | Q19: 140.856 | R19: 3.782 | S19: 491.292 | T19: =SUM(H19:S19) -> 3093.807 | U19: 10393.104 | V19: =SUM(C19:G19)+T19+U19 -> 13829.211
B20: 37591 | C20: 421.435 | D20: 0 | E20: 31.387 | F20: 0 | G20: 2.375 | H20: 366.664 | I20: 47.383 | J20: 248.798 | K20: 59.791 | L20: 249.104 | M20: 219.875 | N20: 363.911 | O20: 22.709 | P20: 414.313 | Q20: 167.891 | R20: 48.14 | S20: 136.091 | T20: =SUM(H20:S20) -> 2344.67 | U20: 11163.912 | V20: =SUM(C20:G20)+T20+U20 -> 13963.779
... B289: 45778 | C289: 4989.124 | D289: 65.612 | E289: 392.34 | F289: 0 | G289: 0 | H289: 176.801 | I289: 87.536 | J289: 189.362 | K289: 483.639 | L289: 1442.792 | M289: 634.859 | N289: 714.951 | O289: 23.946 | P289: 929.729 | Q289: 211.544 | R289: 11.608 | S289: 167.622 | T289: =SUM(H289:S289) -> 5074.389 | U289: 60716.178 | V289: =SUM(C289:G289)+T289+U289 -> 71237.643
B292: Source: Barbados Statistical Service

Sheet G4B
W1: Table G4B
B2: BARBADOS' TRADE IN GOODS - RE-EXPORTS BY COMMODITY GROUPINGS
W3: BD$000
C5: CONSUMER GOODS | K5: INTERMEDIATE GOODS | S5: CAPITAL GOODS | W5: TOTAL
C6: NON-DURABLE | F6: DURABLE | J6: TOTAL CONSUMER
C7: Food and Beverages | D7: Other | E7: Total Non-Durable | F7: Motor Cars | G7: Other | H7: Total Durable | I7: Other Manufactured Goods | K7: Fuel | L7: Electrical Components | M7: Construction Materials | N7: Chemicals | O7: Textiles | P7: Feed, Fat & Crude Materials | Q7: Other Manufactures | R7: TOTAL INTERMEDIATE | S7: Machinery | T7: Other | U7: TOTAL CAPITAL | V7: Unclassified Goods
B10: 28856
B11: 28887
B12: 28915
B13: 28946
B14: 28976
B15: 29007
B16: 29037
B17: 29068
B18: 29099
B19: 29129
B20: 29160
B21: 29190
... B285: 37226
B286: 37257 | C286: 780.217 | D286: 2782.16 | E286: =SUM(C286:D286) -> 3562.377 | F286: 257.304 | G286: 36.634 | H286: =F286+G286 -> 293.938 | I286: 303.757 | J286: =E286+H286+I286 -> 4160.072 | K286: 8219.08 | L286: 48.288 | M286: 35.87 | N286: 374.952 | O286: 56.717 | P286: 24.182 | Q286: 429.257 | R286: =SUM(K286:Q286) -> 9188.346 | S286: 184.641 | T286: 77.007 | U286: =SUM(S286:T286) -> 261.648 | V286: 0 | W286: =J286+R286+U286+V286 -> 13610.066
B287: 37288 | C287: 295.675 | D287: 1157.041 | E287: =SUM(C287:D287) -> 1452.716 | F287: 101.724 | G287: 49.021 | H287: =F287+G287 -> 150.745 | I287: 570.507 | J287: =E287+H287+I287 -> 2173.968 | K287: 6565.043 | L287: 72.4 | M287: 27.192 | N287: 84.76 | O287: 6.602 | P287: 4.796 | Q287: 410.544 | R287: =SUM(K287:Q287) -> 7171.337 | S287: 368.056 | T287: 62.612 | U287: =SUM(S287:T287) -> 430.668 | V287: 0 | W287: =J287+R287+U287+V287 -> 9775.973
B288: 37316 | C288: 435.272 | D288: 1495.642 | E288: =SUM(C288:D288) -> 1930.914 | F288: 332.675 | G288: 50.792 | H288: =F288+G288 -> 383.467 | I288: 212.796 | J288: =E288+H288+I288 -> 2527.177 | K288: 7111.451 | L288: 40.15 | M288: 40.715 | N288: 200.041 | O288: 6.601 | P288: 22.51 | Q288: 524.666 | R288: =SUM(K288:Q288) -> 7946.134 | S288: 1981.1 | T288: 176.359 | U288: =SUM(S288:T288) -> 2157.459 | V288: 0 | W288: =J288+R288+U288+V288 -> 12630.77
B289: 37347 | C289: 400.815 | D289: 1095.542 | E289: =SUM(C289:D289) -> 1496.357 | F289: 241.901 | G289: 71.998 | H289: =F289+G289 -> 313.899 | I289: 2779.811 | J289: =E289+H289+I289 -> 4590.067 | K289: 8083.473 | L289: 46.482 | M289: 74.063 | N289: 129.701 | O289: 21.232 | P289: 64.359 | Q289: 643.273 | R289: =SUM(K289:Q289) -> 9062.583 | S289: 1526.927 | T289: 85.244 | U289: =SUM(S289:T289) -> 1612.171 | V289: 0 | W289: =J289+R289+U289+V289 -> 15264.821
B290: 37377 | C290: 919.508 | D290: 1679.208 | E290: =SUM(C290:D290) -> 2598.716 | F290: 273.894 | G290: 106.413 | H290: =F290+G290 -> 380.307 | I290: 814.975 | J290: =E290+H290+I290 -> 3793.998 | K290: 5343.24 | L290: 70.517 | M290: 16.274 | N290: 119.456 | O290: 0.704 | P290: 7.436 | Q290: 391.893 | R290: =SUM(K290:Q290) -> 5949.52 | S290: 530.281 | T290: 58.132 | U290: =SUM(S290:T290) -> 588.413 | V290: 0 | W290: =J290+R290+U290+V290 -> 10331.931
B291: 37408 | C291: 983.682 | D291: 1014.188 | E291: =SUM(C291:D291) -> 1997.87 | F291: 251.632 | G291: 43.361 | H291: =F291+G291 -> 294.993 | I291: 458.473 | J291: =E291+H291+I291 -> 2751.336 | K291: 5116.842 | L291: 98.152 | M291: 32.265 | N291: 128.153 | O291: 18.825 | P291: 17.167 | Q291: 554.801 | R291: =SUM(K291:Q291) -> 5966.205 | S291: 554.691 | T291: 15.582 | U291: =SUM(S291:T291) -> 570.273 | V291: 0 | W291: =J291+R291+U291+V291 -> 9287.814
B292: 37438 | C292: 1717.203 | D292: 1651.742 | E292: =SUM(C292:D292) -> 3368.945 | F292: 157.6 | G292: 33.194 | H292: =F292+G292 -> 190.794 | I292: 346.455 | J292: =E292+H292+I292 -> 3906.194 | K292: 5827.165 | L292: 37.341 | M292: 29.087 | N292: 231.244 | O292: 10.479 | P292: 17.28 | Q292: 564.495 | R292: =SUM(K292:Q292) -> 6717.091 | S292: 3139.281 | T292: 1758.178 | U292: =SUM(S292:T292) -> 4897.459 | V292: 0 | W292: =J292+R292+U292+V292 -> 15520.744
B293: 37469 | C293: 443.784 | D293: 1388.747 | E293: =SUM(C293:D293) -> 1832.531 | F293: 311.52 | G293: 18.678 | H293: =F293+G293 -> 330.198 | I293: 647.612 | J293: =E293+H293+I293 -> 2810.341 | K293: 6630.364 | L293: 72.579 | M293: 35.733 | N293: 141.993 | O293: 38.89 | P293: 15.712 | Q293: 420.651 | R293: =SUM(K293:Q293) -> 7355.922 | S293: 953.717 | T293: 826.012 | U293: =SUM(S293:T293) -> 1779.729 | V293: 0.74 | W293: =J293+R293+U293+V293 -> 11946.732
B294: 37500 | C294: 196.806 | D294: 1716.444 | E294: =SUM(C294:D294) -> 1913.25 | F294: 351.044 | G294: 71.598 | H294: =F294+G294 -> 422.642 | I294: 126.471 | J294: =E294+H294+I294 -> 2462.363 | K294: 3986.475 | L294: 38.889 | M294: 15.422 | N294: 148.432 | O294: 5.187 | P294: 16.638 | Q294: 425.965 | R294: =SUM(K294:Q294) -> 4637.008 | S294: 1077.271 | T294: 357.414 | U294: =SUM(S294:T294) -> 1434.685 | V294: 1.8 | W294: =J294+R294+U294+V294 -> 8535.856
B295: 37530 | C295: 760.654 | D295: 1894.094 | E295: =SUM(C295:D295) -> 2654.748 | F295: 85.8 | G295: 23.963 | H295: =F295+G295 -> 109.763 | I295: 364.979 | J295: =E295+H295+I295 -> 3129.49 | K295: 6325.391 | L295: 7.626 | M295: 30.372 | N295: 161.7 | O295: 3.114 | P295: 11.019 | Q295: 736.559 | R295: =SUM(K295:Q295) -> 7275.781 | S295: 4678.924 | T295: 102.863 | U295: =SUM(S295:T295) -> 4781.787 | V295: 0 | W295: =J295+R295+U295+V295 -> 15187.058
B296: 37561 | C296: 1043.31 | D296: 2272.776 | E296: =SUM(C296:D296) -> 3316.086 | F296: 19.5 | G296: 24.523 | H296: =F296+G296 -> 44.023 | I296: 358.194 | J296: =E296+H296+I296 -> 3718.303 | K296: 8808.382 | L296: 28.618 | M296: 27.828 | N296: 203.225 | O296: 9.602 | P296: 20.019 | Q296: 382.313 | R296: =SUM(K296:Q296) -> 9479.987 | S296: 526.551 | T296: 104.37 | U296: =SUM(S296:T296) -> 630.921 | V296: 0 | W296: =J296+R296+U296+V296 -> 13829.211
B297: 37591 | C297: 271.157 | D297: 1818.407 | E297: =SUM(C297:D297) -> 2089.564 | F297: 180 | G297: 87.804 | H297: =F297+G297 -> 267.804 | I297: 124.411 | J297: =E297+H297+I297 -> 2481.779 | K297: 10340.659 | L297: 11.239 | M297: 12.347 | N297: 136.361 | O297: 3.418 | P297: 13.511 | Q297: 371.032 | R297: =SUM(K297:Q297) -> 10888.567 | S297: 501.619 | T297: 91.814 | U297: =SUM(S297:T297) -> 593.433 | V297: 0 | W297: =J297+R297+U297+V297 -> 13963.779
... B566: 45778 | C566: 1490.459 | D566: 5185.987 | E566: =SUM(C566:D566) -> 6676.446 | F566: 0 | G566: 25.627 | H566: =F566+G566 -> 25.627 | I566: 3375.411 | J566: =E566+H566+I566 -> 10077.484 | K566: 58985.863 | L566: 3.69 | M566: 6.505 | N566: 184.671 | O566: 33.175 | P566: 1.043 | Q566: 402.234 | R566: =SUM(K566:Q566) -> 59617.181 | S566: 904.816 | T566: 638.162 | U566: =SUM(S566:T566) -> 1542.978 | V566: 0 | W566: =J566+R566+U566+V566 -> 71237.643
B569: Source: Barbados Statistical Service
