Workbook
Name applicantstatus: [1]Codes!$K$1:$K$3
Name appstatRange: [2]codes!$I$1:$J$3
Name branch: [3]codes!$A$1:$A$4
Name branchRange: [4]codes!$A$1:$B$12
Name Categories: [5]Codes!$C$1:$C$57
Name category: [3]codes!$C$1:$C$54
Name catRange: [4]codes!$C$1:$D$57
Name country: [3]codes!$E$1:$E$87
Name ctryRange: [4]codes!$E$1:$F$87
Name currency: [3]codes!$G$1:$G$58
Name currRange: [4]codes!$G$1:$H$58
Name f: #REF!
Name fa: #REF!
Name Fiscal_Annuals: [6]Model!$C$901:$CT$1018
Name Fiscal_Annuals_Variables: [6]Model!$A$899:$A$1012
Name idtype: [3]codes!$I$1:$I$6
Name idtypeRange: [4]codes!$I$1:$J$6
Name ISO: [3]codes!$U$2:$U$249
Name ISOCode: [7]codes!$U$2:$U$249
Name ISORange: [8]codes!$W$2:$X$249
Name Month: #REF!
Name MONTHLY_DATA: '[9]MOF Projections (As @ Sep 2014)'!$B$9:$Y$9
Name Months: #REF!
Name Monthz: #REF!
Name Outlook_Fiscal_Quarterly: [6]Model!$C$2012:$ES$2116
Name RecCatgLookup: [4]codes!$N$1:$O$78
Name RecSectLookup: [3]codes!$P$2:$R$8
Name ResidencyLookup: [3]codes!$K$1:$L$2
Name residstatRange: [4]codes!$K$1:$M$2
Name residstatus: [3]codes!$K$1:$K$2

Sheet B2C-expanded
V1: TABLE B2C-expanded
C2: COMMERCIAL BANKS' LOANS AND ADVANCES
K3: SUMMARY | V3: BD$000
C5: National Currency | F5: Foreign Currency | I5: Total Loans and Advances | J5: National Currency | P5: Foreign Currency | V5: Total Loans and Advances
C6: Total Money Issuers | D6: Total Money Neutral | E6: Total MONEY HOLDERS | F6: Total Money Issuers | G6: Total Money Neutral | H6: Total MONEY HOLDERS | J6: Overdrafts | K6: Demand Loans | L6: Mortgages | M6: Credit Cards | N6: Leases | O6: Other Loans and Advances | P6: Overdrafts | Q6: Demand Loans | R6: Mortgages | S6: Credit Cards | T6: Leases | U6: Other Loans and Advances
B9: 31-Jan-2012 | C9: 62037.805 | D9: 223816.72 | E9: 5647768.6 | F9: 0 | G9: 11735.434 | H9: 448728.46 | I9: =SUM(C9:H9) -> 6394087 | J9: 1151935.2 | K9: 1034641.3 | L9: 1944916.7 | M9: 313783.42 | N9: 0 | O9: 1488346.5 | P9: 16.86865 | Q9: 9298.6367 | R9: 4081.6543 | S9: 1138.686 | T9: 0 | U9: 445928.04 | V9: =SUM(J9:U9) -> 6394087
B10: 29-Feb-2012 | C10: 62073.42 | D10: 218797.19 | E10: 5690481.7 | F10: 0 | G10: 10185.443 | H10: 444713.42 | I10: =SUM(C10:H10) -> 6426251.2 | J10: 1175226.1 | K10: 1065375.4 | L10: 1958464.7 | M10: 312847.9 | N10: 0 | O10: 1459438.2 | P10: 15.32182 | Q10: 9298.6367 | R10: 4081.6543 | S10: 1257.5963 | T10: 0 | U10: 440245.65 | V10: =SUM(J10:U10) -> 6426251.2
B11: 31-Mar-2012 | C11: 62034.539 | D11: 218958.22 | E11: 5633004.8 | F11: 0 | G11: 10268.722 | H11: 443686.76 | I11: =SUM(C11:H11) -> 6367953 | J11: 1131028.2 | K11: 1048786 | L11: 1968176.1 | M11: 307065.85 | N11: 0 | O11: 1458941.4 | P11: 38.68273 | Q11: 9293.9949 | R11: 4081.6543 | S11: 1347.121 | T11: 0 | U11: 439194.03 | V11: =SUM(J11:U11) -> 6367953
B12: 30-Apr-2012 | C12: 34.19987 | D12: 218993.82 | E12: 6076451.3 | F12: 0 | G12: 1009953.4 | H12: 462193.53 | I12: =SUM(C12:H12) -> 7767626.4 | J12: 1139630.8 | K12: 1039683.1 | L12: 2403777.9 | M12: 306536.01 | N12: 0 | O12: 1405851.3 | P12: 139.19454 | Q12: 9291.6625 | R12: 4081.6543 | S12: 1137.851 | T12: 0 | U12: 1457496.6 | V12: =SUM(J12:U12) -> 7767626
B13: 31-May-2012 | C13: 37.69887 | D13: 229031.84 | E13: 6083140.5 | F13: 0 | G13: 1009755.5 | H13: 456754.23 | I13: =SUM(C13:H13) -> 7778719.8 | J13: 1171585.3 | K13: 1036800.6 | L13: 2409554.8 | M13: 307258.85 | N13: 0 | O13: 1387010.5 | P13: 219.96927 | Q13: 9289.2745 | R13: 4081.6543 | S13: 1072.928 | T13: 0 | U13: 1451845.9 | V13: =SUM(J13:U13) -> 7778719.8
B14: 30-Jun-2012 | C14: 55.11054 | D14: 217287.25 | E14: 6142183.4 | F14: 0 | G14: 1009755.5 | H14: 456290.19 | I14: =SUM(C14:H14) -> 7825571.5 | J14: 1176426 | K14: 1036897.7 | L14: 2418219.2 | M14: 307048.8 | N14: 0 | O14: 1420934.1 | P14: 322.19568 | Q14: 9286.9138 | R14: 4081.6543 | S14: 1082.928 | T14: 0 | U14: 1451272 | V14: =SUM(J14:U14) -> 7825571.5
B15: 31-Jul-2012 | C15: 34.71187 | D15: 217066.19 | E15: 6116103.3 | F15: 0 | G15: 1009337.5 | H15: 455486.43 | I15: =SUM(C15:H15) -> 7798028.1 | J15: 1154154 | K15: 1032156.4 | L15: 2425945.5 | M15: 311729.85 | N15: 0 | O15: 1409218.5 | P15: 385.17498 | Q15: 9236.796 | R15: 4081.6543 | S15: 1436.928 | T15: 0 | U15: 1449683.4 | V15: =SUM(J15:U15) -> 7798028.1
B16: 31-Aug-2012 | C16: 34.67387 | D16: 215952.24 | E16: 6149772.5 | F16: 0 | G16: 1007901.3 | H16: 461901.07 | I16: =SUM(C16:H16) -> 7835561.8 | J16: 1163173.1 | K16: 1035857.8 | L16: 2429469 | M16: 313428.11 | N16: 0 | O16: 1423831.4 | P16: 406.15512 | Q16: 9234.4151 | R16: 4081.6543 | S16: 878.44404 | T16: 0 | U16: 1455201.7 | V16: =SUM(J16:U16) -> 7835561.8
B17: 30-Sep-2012 | C17: 35.07187 | D17: 215390.41 | E17: 6121089.9 | F17: 0 | G17: 1007972.3 | H17: 461577.14 | I17: =SUM(C17:H17) -> 7806064.8 | J17: 1117532 | K17: 1029264.6 | L17: 2439907.6 | M17: 320074.58 | N17: 0 | O17: 1429736.5 | P17: 416.28681 | Q17: 9234.4151 | R17: 4081.6543 | S17: 1327.5647 | T17: 0 | U17: 1454489.5 | V17: =SUM(J17:U17) -> 7806064.8
B18: 31-Oct-2012 | C18: 34.73687 | D18: 235717.11 | E18: 6196346 | F18: 0 | G18: 1007573.6 | H18: 463800.83 | I18: =SUM(C18:H18) -> 7903472.2 | J18: 1203280.6 | K18: 1031695.4 | L18: 2445803.3 | M18: 317285.74 | N18: 0 | O18: 1434032.9 | P18: 416.34319 | Q18: 9231.2913 | R18: 4081.6543 | S18: 1524.8294 | T18: 0 | U18: 1456120.3 | V18: =SUM(J18:U18) -> 7903472.2
B19: 30-Nov-2012 | C19: 34.69387 | D19: 242728.61 | E19: 6211815.6 | F19: 0 | G19: 1007608.8 | H19: 459594.11 | I19: =SUM(C19:H19) -> 7921781.8 | J19: 1192888.5 | K19: 1046498.1 | L19: 2456759.7 | M19: 320968.69 | N19: 0 | O19: 1437463.9 | P19: 416.41843 | Q19: 9226.4733 | R19: 4081.6543 | S19: 1511.1066 | T19: 0 | U19: 1451967.3 | V19: =SUM(J19:U19) -> 7921781.8
B20: 31-Dec-2012 | C20: 106.81134 | D20: 242465.78 | E20: 6226543.3 | F20: 0 | G20: 1007584.4 | H20: 461630.87 | I20: =SUM(C20:H20) -> 7938331.2 | J20: 1199862.8 | K20: 1017535.4 | L20: 2460663.5 | M20: 324842.97 | N20: 0 | O20: 1466211.2 | P20: 415.59953 | Q20: 9266.1028 | R20: 4001.4458 | S20: 1610.1803 | T20: 0 | U20: 1453922 | V20: =SUM(J20:U20) -> 7938331.2
... B155: 31-Mar-2024 | C155: 40.34498 | D155: 238861.84 | E155: 6085349.4 | F155: 0 | G155: 14244.336 | H155: 50343.641 | I155: =SUM(C155:H155) -> 6388839.6 | J155: 297331.99 | K155: 711846.19 | L155: 3265316.3 | M155: 275386.04 | N155: 15.05718 | O155: 1774356 | P155: 20.678674 | Q155: 2439.9865 | R155: 37431.822 | S155: 864.94666 | T155: 0 | U155: 23830.543 | V155: =SUM(J155:U155) -> 6388839.6
B156: 45412 | C156: 41.84738 | D156: 237644.04 | E156: 6047333.9 | F156: 0 | G156: 14623.003 | H156: 48687.215 | I156: =SUM(C156:H156) -> 6348330 | J156: 259066.21 | K156: 718063.89 | L156: 3262662.4 | M156: 273979.18 | N156: 13.57932 | O156: 1771234.6 | P156: 22.25455 | Q156: 2345.727 | R156: 37796.899 | S156: 917.71572 | T156: 0 | U156: 22227.622 | V156: =SUM(J156:U156) -> 6348330
B157: 45443 | C157: 49.51947 | D157: 236598.91 | E157: 6204446.1 | F157: 0 | G157: 14292.038 | H157: 43003.758 | I157: =SUM(C157:H157) -> 6498390.3 | J157: 336903.26 | K157: 772234.35 | L157: 3266339.5 | M157: 281848.5 | N157: 12.0953 | O157: 1783756.9 | P157: 23.281543 | Q157: 2250.2412 | R157: 37490.32 | S157: 909.67786 | T157: 0 | U157: 16622.275 | V157: =SUM(J157:U157) -> 6498390.3
B158: 45473 | C158: 49.74486 | D158: 236336.47 | E158: 6210333.3 | F158: 0 | G158: 14226.401 | H158: 42296.486 | I158: =SUM(C158:H158) -> 6503242.4 | J158: 348068.6 | K158: 777021.62 | L158: 3263209 | M158: 283466.47 | N158: 10.60551 | O158: 1774943.2 | P158: 24.264673 | Q158: 2250.2739 | R158: 37411.906 | S158: 817.9734 | T158: 0 | U158: 16018.468 | V158: =SUM(J158:U158) -> 6503242.4
B159: 45504 | C159: 1497.1523 | D159: 238988.87 | E159: 6184305.9 | F159: 0 | G159: 20426.868 | H159: 41552.783 | I159: =SUM(C159:H159) -> 6486771.6 | J159: 317476.53 | K159: 781074.93 | L159: 3290295 | M159: 286228.1 | N159: 9.1091 | O159: 1749708.3 | P159: 25.387997 | Q159: 2153.9993 | R159: 43623.099 | S159: 761.75152 | T159: 0 | U159: 15415.413 | V159: =SUM(J159:U159) -> 6486771.6
B160: 45535 | C160: 49.07507 | D160: 230022.96 | E160: 6228521.4 | F160: 0 | G160: 20334.545 | H160: 40757.187 | I160: =SUM(C160:H160) -> 6519685.2 | J160: 307106.84 | K160: 805621.71 | L160: 3314994.7 | M160: 286986.84 | N160: 7.60645 | O160: 1743875.7 | P160: 26.092388 | Q160: 2061.6217 | R160: 43500.961 | S160: 690.45648 | T160: 0 | U160: 14812.601 | V160: =SUM(J160:U160) -> 6519685.2
B161: 45565 | C161: 2148.895 | D161: 240606.03 | E161: 6274665.8 | F161: 0 | G161: 19705.783 | H161: 31158.389 | I161: =SUM(C161:H161) -> 6568284.9 | J161: 326897.94 | K161: 820195.06 | L161: 3317446.1 | M161: 291031.15 | N161: 6.09776 | O161: 1761844.4 | P161: 26.090562 | Q161: 1964.4347 | R161: 42878.248 | S161: 920.63932 | T161: 0 | U161: 5074.7591 | V161: =SUM(J161:U161) -> 6568284.9
B162: 45596 | C162: 988.54506 | D162: 240399.79 | E162: 6299677.2 | F162: 0 | G162: 19352.783 | H162: 49475.549 | I162: =SUM(C162:H162) -> 6609893.8 | J162: 319904.98 | K162: 820997.52 | L162: 3343537.9 | M162: 292402.5 | N162: 4.58256 | O162: 1764218 | P162: 26.140011 | Q162: 1866.3671 | R162: 54823.207 | S162: 995.5483 | T162: 0 | U162: 11117.069 | V162: =SUM(J162:U162) -> 6609893.8
B163: 45626 | C163: 1590.627 | D163: 843269.76 | E163: 6328178.5 | F163: 0 | G163: 18722.103 | H163: 63519.531 | I163: =SUM(C163:H163) -> 7255280.6 | J163: 308086.07 | K163: 845543.32 | L163: 3365139.6 | M163: 291974.5 | N163: 3.06106 | O163: 2362292.4 | P163: 26.551222 | Q163: 1768.2886 | R163: 68551.053 | S163: 961.52578 | T163: 0 | U163: 10934.216 | V163: =SUM(J163:U163) -> 7255280.6
B164: 45657 | C164: 20723.757 | D164: 842492.78 | E164: 6359180.1 | F164: 0 | G164: 18644.308 | H164: 70727.068 | I164: =SUM(C164:H164) -> 7311768 | J164: 332242.29 | K164: 849357.57 | L164: 3367056.5 | M164: 295845.59 | N164: 1.53321 | O164: 2377893.1 | P164: 97.48583 | Q164: 1669.6222 | R164: 75880.751 | S164: 972.63566 | T164: 0 | U164: 10750.881 | V164: =SUM(J164:U164) -> 7311768
B165: 45688 | C165: 95.0753 | D165: 842228.09 | E165: 6389340.2 | F165: 0 | G165: 18688.658 | H165: 83569.599 | I165: =SUM(C165:H165) -> 7333921.6 | J165: 320838.29 | K165: 861659.02 | L165: 3375028.9 | M165: 291408.46 | N165: 0 | O165: 2382728.7 | P165: 97.768073 | Q165: 1570.7564 | R165: 89066.198 | S165: 955.655 | T165: 0 | U165: 10567.879 | V165: =SUM(J165:U165) -> 7333921.6
B166: 45716 | C166: 97.65685 | D166: 842790.5 | E166: 6389237.6 | F166: 0 | G166: 25914.702 | H166: 83409.83 | I166: =SUM(C166:H166) -> 7341450.3 | J166: 297843.13 | K166: 880662.97 | L166: 3373303 | M166: 292103.53 | N166: 0 | O166: 2388213.2 | P166: 27.156523 | Q166: 1470.8316 | R166: 96457.558 | S166: 986.1497 | T166: 0 | U166: 10382.835 | V166: =SUM(J166:U166) -> 7341450.3
B167: 45747 | C167: 1284.218 | D167: 840647.21 | E167: 6398686.5 | F167: 0 | G167: 39305.709 | H167: 89898.099 | I167: =SUM(C167:H167) -> 7369821.8 | J167: 272259.02 | K167: 889057.68 | L167: 3401941.7 | M167: 287249.91 | N167: 0 | O167: 2390109.7 | P167: 27.14833 | Q167: 1370.1502 | R167: 116520.25 | S167: 903.4197 | T167: 0 | U167: 10382.835 | V167: =SUM(J167:U167) -> 7369821.8
... B173: 45930 | C173: 4350.8323 | D173: 850599.05 | E173: 6568832.4 | F173: 0 | G173: 154010.38 | H173: 94058.761 | I173: =SUM(C173:H173) -> 7671851.4 | J173: 291621.08 | K173: 962242.52 | L173: 3439907.7 | M173: 297884.72 | N173: 0 | O173: 2432126.3 | P173: 25.860475 | Q173: 1213.8357 | R173: 120496.47 | S173: 832.97492 | T173: 0 | U173: 125500 | V173: =SUM(J173:U173) -> 7671851.4

Sheet B2C1
P1: Table B2C1
C2: COMMERCIAL BANKS' TOTAL LOANS AND ADVANCES
P3: BD$000
P4: PROVISIONAL
C5: MONEY ISSUERS in National Currency | F5: MONEY NEUTRAL in National Currency | I5: MONEY HOLDERS in National Currency | N5: Total National Currency Loans | O5: Total Foreign Currency Loans | P5: Total Loans
C6: Central Bank | D6: Other Depository Corporations | E6: Total Money Issuers | F6: Government | G6: Non-Residents | H6: Total Money Neutral | I6: Other Financial Corporations | J6: Public Non-Financial Corporations | K6: Private Non-Financial Corporations | L6: Other Resident Sectors | M6: Total MONEY HOLDERS
B9: 31-Jan-2012 | C9: 0 | D9: 62037.805 | E9: =SUM(C9:D9) -> 62037.805 | F9: 182105.41 | G9: 41711.318 | H9: =SUM(F9:G9) -> 223816.72 | I9: 801591.12 | J9: 275552.13 | K9: 1840488.1 | L9: 2730137.2 | M9: =SUM(I9:L9) -> 5647768.6 | N9: =M9+H9+E9 -> 5933623.1 | O9: 460463.89 | P9: =N9+O9 -> 6394087
B10: 29-Feb-2012 | C10: 0 | D10: 62073.42 | E10: =SUM(C10:D10) -> 62073.42 | F10: 176711.6 | G10: 42085.592 | H10: =SUM(F10:G10) -> 218797.19 | I10: 821476.91 | J10: 294310.72 | K10: 1842078.8 | L10: 2732615.2 | M10: =SUM(I10:L10) -> 5690481.7 | N10: =M10+H10+E10 -> 5971352.3 | O10: 454898.86 | P10: =N10+O10 -> 6426251.2
B11: 31-Mar-2012 | C11: 0 | D11: 62034.539 | E11: =SUM(C11:D11) -> 62034.539 | F11: 176502.14 | G11: 42456.079 | H11: =SUM(F11:G11) -> 218958.22 | I11: 782120.05 | J11: 295218.7 | K11: 1818684.4 | L11: 2736981.6 | M11: =SUM(I11:L11) -> 5633004.8 | N11: =M11+H11+E11 -> 5913997.5 | O11: 453955.48 | P11: =N11+O11 -> 6367953
B12: 30-Apr-2012 | C12: 0 | D12: 34.19987 | E12: =SUM(C12:D12) -> 34.19987 | F12: 176440.34 | G12: 42553.485 | H12: =SUM(F12:G12) -> 218993.82 | I12: 792316.27 | J12: 289435.54 | K12: 1822569.4 | L12: 3172130.1 | M12: =SUM(I12:L12) -> 6076451.3 | N12: =M12+H12+E12 -> 6295479.4 | O12: 1472147 | P12: =N12+O12 -> 7767626.4
B13: 31-May-2012 | C13: 0 | D13: 37.69887 | E13: =SUM(C13:D13) -> 37.69887 | F13: 186571.96 | G13: 42459.875 | H13: =SUM(F13:G13) -> 229031.84 | I13: 811093.91 | J13: 271053.7 | K13: 1824617.7 | L13: 3176375.2 | M13: =SUM(I13:L13) -> 6083140.5 | N13: =M13+H13+E13 -> 6312210.1 | O13: 1466509.8 | P13: =N13+O13 -> 7778719.8
B14: 30-Jun-2012 | C14: -0.08015 | D14: 55.19069 | E14: =SUM(C14:D14) -> 55.11054 | F14: 174354.52 | G14: 42932.73 | H14: =SUM(F14:G14) -> 217287.25 | I14: 813651.96 | J14: 303952.7 | K14: 1835874.5 | L14: 3188704.3 | M14: =SUM(I14:L14) -> 6142183.4 | N14: =M14+H14+E14 -> 6359525.8 | O14: 1466045.7 | P14: =N14+O14 -> 7825571.5
B15: 31-Jul-2012 | C15: 0 | D15: 34.71187 | E15: =SUM(C15:D15) -> 34.71187 | F15: 174238.03 | G15: 42828.163 | H15: =SUM(F15:G15) -> 217066.19 | I15: 774030.96 | J15: 288862.36 | K15: 1850143.7 | L15: 3203066.3 | M15: =SUM(I15:L15) -> 6116103.3 | N15: =M15+H15+E15 -> 6333204.2 | O15: 1464824 | P15: =N15+O15 -> 7798028.1
B16: 31-Aug-2012 | C16: 0 | D16: 34.67387 | E16: =SUM(C16:D16) -> 34.67387 | F16: 174140.66 | G16: 41811.581 | H16: =SUM(F16:G16) -> 215952.24 | I16: 784091.82 | J16: 311581.13 | K16: 1842687.7 | L16: 3211411.9 | M16: =SUM(I16:L16) -> 6149772.5 | N16: =M16+H16+E16 -> 6365759.4 | O16: 1469802.4 | P16: =N16+O16 -> 7835561.8
B17: 30-Sep-2012 | C17: 0 | D17: 35.07187 | E17: =SUM(C17:D17) -> 35.07187 | F17: 174064.69 | G17: 41325.718 | H17: =SUM(F17:G17) -> 215390.41 | I17: 759753.21 | J17: 287885 | K17: 1838737.3 | L17: 3234714.3 | M17: =SUM(I17:L17) -> 6121089.9 | N17: =M17+H17+E17 -> 6336515.3 | O17: 1469549.4 | P17: =N17+O17 -> 7806064.8
B18: 31-Oct-2012 | C18: 0 | D18: 34.73687 | E18: =SUM(C18:D18) -> 34.73687 | F18: 194408.48 | G18: 41308.628 | H18: =SUM(F18:G18) -> 235717.11 | I18: 832851.49 | J18: 296853.33 | K18: 1826660 | L18: 3239981.2 | M18: =SUM(I18:L18) -> 6196346 | N18: =M18+H18+E18 -> 6432097.9 | O18: 1471374.4 | P18: =N18+O18 -> 7903472.2
B19: 30-Nov-2012 | C19: 0 | D19: 34.69387 | E19: =SUM(C19:D19) -> 34.69387 | F19: 201334.37 | G19: 41394.238 | H19: =SUM(F19:G19) -> 242728.61 | I19: 838401.47 | J19: 278011.46 | K19: 1834507.8 | L19: 3260894.9 | M19: =SUM(I19:L19) -> 6211815.6 | N19: =M19+H19+E19 -> 6454578.9 | O19: 1467202.9 | P19: =N19+O19 -> 7921781.8
B20: 31-Dec-2012 | C20: 0 | D20: 106.81134 | E20: =SUM(C20:D20) -> 106.81134 | F20: 201173.82 | G20: 41291.954 | H20: =SUM(F20:G20) -> 242465.78 | I20: 852497.4 | J20: 283389.24 | K20: 1819719.1 | L20: 3270937.5 | M20: =SUM(I20:L20) -> 6226543.3 | N20: =M20+H20+E20 -> 6469115.8 | O20: 1469215.3 | P20: =N20+O20 -> 7938331.2
... B155: 31-Mar-2024 | C155: 0 | D155: 40.34498 | E155: =SUM(C155:D155) -> 40.34498 | F155: 146519.71 | G155: 92342.132 | H155: =SUM(F155:G155) -> 238861.84 | I155: 205494.15 | J155: 128155.05 | K155: 2180609.5 | L155: 3571090.7 | M155: =SUM(I155:L155) -> 6085349.4 | N155: =M155+H155+E155 -> 6324251.6 | O155: 64587.977 | P155: =N155+O155 -> 6388839.6
B156: 45412 | C156: 0 | D156: 41.84738 | E156: =SUM(C156:D156) -> 41.84738 | F156: 146520.55 | G156: 91123.486 | H156: =SUM(F156:G156) -> 237644.04 | I156: 167804.07 | J156: 125872.32 | K156: 2185573 | L156: 3568084.6 | M156: =SUM(I156:L156) -> 6047333.9 | N156: =M156+H156+E156 -> 6285019.8 | O156: 63310.218 | P156: =N156+O156 -> 6348330
B157: 45443 | C157: 0 | D157: 49.51947 | E157: =SUM(C157:D157) -> 49.51947 | F157: 146519.46 | G157: 90079.446 | H157: =SUM(F157:G157) -> 236598.91 | I157: 239083.76 | J157: 128446.66 | K157: 2265189 | L157: 3571726.7 | M157: =SUM(I157:L157) -> 6204446.1 | N157: =M157+H157+E157 -> 6441094.5 | O157: 57295.796 | P157: =N157+O157 -> 6498390.3
B158: 45473 | C158: 0 | D158: 49.74486 | E158: =SUM(C158:D158) -> 49.74486 | F158: 146519.71 | G158: 89816.757 | H158: =SUM(F158:G158) -> 236336.47 | I158: 251390.38 | J158: 124640.8 | K158: 2257967.6 | L158: 3576334.5 | M158: =SUM(I158:L158) -> 6210333.3 | N158: =M158+H158+E158 -> 6446719.5 | O158: 56522.887 | P158: =N158+O158 -> 6503242.4
B159: 45504 | C159: 0 | D159: 1497.1523 | E159: =SUM(C159:D159) -> 1497.1523 | F159: 146519.66 | G159: 92469.209 | H159: =SUM(F159:G159) -> 238988.87 | I159: 218646.44 | J159: 122458.47 | K159: 2257439.9 | L159: 3585761.1 | M159: =SUM(I159:L159) -> 6184305.9 | N159: =M159+H159+E159 -> 6424792 | O159: 61979.651 | P159: =N159+O159 -> 6486771.6
B160: 45535 | C160: 0 | D160: 49.07507 | E160: =SUM(C160:D160) -> 49.07507 | F160: 146519.53 | G160: 83503.429 | H160: =SUM(F160:G160) -> 230022.96 | I160: 213665.36 | J160: 121246.33 | K160: 2292357.2 | L160: 3601252.5 | M160: =SUM(I160:L160) -> 6228521.4 | N160: =M160+H160+E160 -> 6458593.4 | O160: 61091.733 | P160: =N160+O160 -> 6519685.2
B161: 45565 | C161: 0 | D161: 2148.895 | E161: =SUM(C161:D161) -> 2148.895 | F161: 146523.77 | G161: 94082.252 | H161: =SUM(F161:G161) -> 240606.03 | I161: 219864.17 | J161: 105327.64 | K161: 2322969.4 | L161: 3626504.7 | M161: =SUM(I161:L161) -> 6274665.8 | N161: =M161+H161+E161 -> 6517420.7 | O161: 50864.172 | P161: =N161+O161 -> 6568284.9
B162: 45596 | C162: 0 | D162: 988.54506 | E162: =SUM(C162:D162) -> 988.54506 | F162: 146518.82 | G162: 93880.968 | H162: =SUM(F162:G162) -> 240399.79 | I162: 213457.83 | J162: 103379.46 | K162: 2336387.1 | L162: 3646452.8 | M162: =SUM(I162:L162) -> 6299677.2 | N162: =M162+H162+E162 -> 6541065.5 | O162: 68828.332 | P162: =N162+O162 -> 6609893.8
B163: 45626 | C163: 0 | D163: 1590.627 | E163: =SUM(C163:D163) -> 1590.627 | F163: 739235.07 | G163: 104034.69 | H163: =SUM(F163:G163) -> 843269.76 | I163: 213490.98 | J163: 118965.29 | K163: 2340681.1 | L163: 3655041.1 | M163: =SUM(I163:L163) -> 6328178.5 | N163: =M163+H163+E163 -> 7173038.9 | O163: 82241.635 | P163: =N163+O163 -> 7255280.6
B164: 45657 | C164: 0 | D164: 20723.757 | E164: =SUM(C164:D164) -> 20723.757 | F164: 739235.07 | G164: 103257.71 | H164: =SUM(F164:G164) -> 842492.78 | I164: 225465.23 | J164: 118969.69 | K164: 2346233.2 | L164: 3668512 | M164: =SUM(I164:L164) -> 6359180.1 | N164: =M164+H164+E164 -> 7222396.7 | O164: 89371.376 | P164: =N164+O164 -> 7311768
B165: 45688 | C165: 0 | D165: 95.0753 | E165: =SUM(C165:D165) -> 95.0753 | F165: 739235.24 | G165: 102992.85 | H165: =SUM(F165:G165) -> 842228.09 | I165: 221064.2 | J165: 116531.24 | K165: 2368216.7 | L165: 3683528.1 | M165: =SUM(I165:L165) -> 6389340.2 | N165: =M165+H165+E165 -> 7231663.4 | O165: 102258.26 | P165: =N165+O165 -> 7333921.6
B166: 45716 | C166: 0 | D166: 97.65685 | E166: =SUM(C166:D166) -> 97.65685 | F166: 740368.79 | G166: 102421.71 | H166: =SUM(F166:G166) -> 842790.5 | I166: 225934.49 | J166: 115383.74 | K166: 2357995.8 | L166: 3689923.6 | M166: =SUM(I166:L166) -> 6389237.6 | N166: =M166+H166+E166 -> 7232125.8 | O166: 109324.53 | P166: =N166+O166 -> 7341450.3
B167: 45747 | C167: 0 | D167: 1284.218 | E167: =SUM(C167:D167) -> 1284.218 | F167: 739235.3 | G167: 101411.91 | H167: =SUM(F167:G167) -> 840647.21 | I167: 206304.76 | J167: 114484.84 | K167: 2376516.2 | L167: 3701380.7 | M167: =SUM(I167:L167) -> 6398686.5 | N167: =M167+H167+E167 -> 7240618 | O167: 129203.81 | P167: =N167+O167 -> 7369821.8
... B173: 45930 | C173: 0 | D173: 4350.8323 | E173: =SUM(C173:D173) -> 4350.8323 | F173: 739235.29 | G173: 111363.76 | H173: =SUM(F173:G173) -> 850599.05 | I173: 184843.69 | J173: 110064.86 | K173: 2504134.9 | L173: 3769788.9 | M173: =SUM(I173:L173) -> 6568832.4 | N173: =M173+H173+E173 -> 7423782.3 | O173: 248069.14 | P173: =N173+O173 -> 7671851.4

Sheet B2C2
S1: Table B2C2
B2: COMMERCIAL BANKS' LOANS AND ADVANCES TO PRIVATE NON-FINANCIAL CORPORATIONS
S3: BD$000
S4: PROVISIONAL
C5: PRIVATE NON-FINANCIAL CORPORATIONS in National Currency | R5: Private Non-Financial Corporations Foreign Currency | S5: Private Non-Financial Corporations Loans
C6: Agriculture | D6: Hotels and Restaurants | E6: Distribution | F6: Construction | G6: Manufacturing | H6: Fishing | I6: Mining and quarrying | J6: Electricity, gas and water supply | K6: Transport, storage and communication | L6: Real estate, renting and other business activities | M6: Education | N6: Health and social work | O6: Recreational, personal and community work | P6: Other | Q6: TOTAL
B9: 31-Jan-2012 | C9: 17851.882 | D9: 265337.71 | E9: 317559.78 | F9: 289197.4 | G9: 140089.99 | H9: 460.491 | I9: 1158.9356 | J9: 17901.673 | K9: 41788.081 | L9: 714057.5 | M9: 3514.9445 | N9: 16755.825 | O9: 9131.9462 | P9: 5681.9481 | Q9: =SUM(C9:P9) -> 1840488.1 | R9: 427607.68 | S9: =SUM(Q9:R9) -> 2268095.8
B10: 29-Feb-2012 | C10: 17762.022 | D10: 265374.76 | E10: 310778.17 | F10: 234410.35 | G10: 141587.39 | H10: 454.415 | I10: 1813.1879 | J10: 21888.104 | K10: 46485.643 | L10: 766167.28 | M10: 3778.935 | N10: 16891.649 | O10: 9004.9855 | P10: 5681.9481 | Q10: =SUM(C10:P10) -> 1842078.8 | R10: 423433.24 | S10: =SUM(Q10:R10) -> 2265512.1
B11: 31-Mar-2012 | C11: 17385.455 | D11: 266485.19 | E11: 313276.83 | F11: 233419.12 | G11: 137297.43 | H11: 455.46274 | I11: 1801.2471 | J11: 21474.99 | K11: 44053.446 | L11: 747374.73 | M11: 3841.1689 | N11: 16635.283 | O11: 9502.1029 | P11: 5681.9481 | Q11: =SUM(C11:P11) -> 1818684.4 | R11: 422399.35 | S11: =SUM(Q11:R11) -> 2241083.8
B12: 30-Apr-2012 | C12: 16814.119 | D12: 263054.86 | E12: 314469.88 | F12: 232402.66 | G12: 140621.27 | H12: 350.94265 | I12: 1780.5111 | J12: 21748.258 | K12: 36384.085 | L12: 759222.23 | M12: 3823.9619 | N12: 16661.366 | O12: 9553.2969 | P12: 5681.9481 | Q12: =SUM(C12:P12) -> 1822569.4 | R12: 440937.79 | S12: =SUM(Q12:R12) -> 2263507.2
B13: 31-May-2012 | C13: 16874.741 | D13: 263898.52 | E13: 314104.4 | F13: 236695.16 | G13: 143731.18 | H13: 349.98551 | I13: 1166.083 | J13: 17862.813 | K13: 35536.706 | L13: 758575.96 | M13: 3964.8483 | N13: 16670.418 | O13: 9504.9272 | P13: 5681.9481 | Q13: =SUM(C13:P13) -> 1824617.7 | R13: 435639.72 | S13: =SUM(Q13:R13) -> 2260257.4
B14: 30-Jun-2012 | C14: 16732.359 | D14: 262409.28 | E14: 316143.19 | F14: 237100.35 | G14: 140236.82 | H14: 354.88555 | I14: 1168.4338 | J14: 17807.025 | K14: 36614.447 | L14: 760594.98 | M14: 3963.3976 | N14: 16686.663 | O14: 10380.726 | P14: 15681.948 | Q14: =SUM(C14:P14) -> 1835874.5 | R14: 435165.69 | S14: =SUM(Q14:R14) -> 2271040.2
B15: 31-Jul-2012 | C15: 16608.369 | D15: 263414.01 | E15: 320585.37 | F15: 238210.19 | G15: 140636.69 | H15: 354.57351 | I15: 1171.4475 | J15: 18380.673 | K15: 41596.158 | L15: 762684.01 | M15: 3929.2499 | N15: 16510.86 | O15: 10380.109 | P15: 15681.948 | Q15: =SUM(C15:P15) -> 1850143.7 | R15: 435080.21 | S15: =SUM(Q15:R15) -> 2285223.9
B16: 31-Aug-2012 | C16: 16819.517 | D16: 266003.32 | E16: 322838.14 | F16: 237264.23 | G16: 132283.01 | H16: 352.09051 | I16: 1169.5227 | J16: 17708.695 | K16: 43877.411 | L16: 767619.18 | M16: 3935.4048 | N16: 16565.631 | O16: 10569.561 | P16: 5681.9481 | Q16: =SUM(C16:P16) -> 1842687.7 | R16: 442125.79 | S16: =SUM(Q16:R16) -> 2284813.4
B17: 30-Sep-2012 | C17: 16661.554 | D17: 269000.89 | E17: 316930.49 | F17: 236369.24 | G17: 133539 | H17: 311.04751 | I17: 1167.8551 | J17: 21322.034 | K17: 44566.207 | L17: 752089.85 | M17: 3877.5282 | N17: 16638.867 | O17: 10580.837 | P17: 15681.948 | Q17: =SUM(C17:P17) -> 1838737.3 | R17: 441424.04 | S17: =SUM(Q17:R17) -> 2280161.4
B18: 31-Oct-2012 | C18: 16875.663 | D18: 260756.07 | E18: 325923.91 | F18: 235291.84 | G18: 130909.81 | H18: 445.11951 | I18: 1171.9773 | J18: 19160.616 | K18: 33573.874 | L18: 756044.16 | M18: 3773.7638 | N18: 16549.598 | O18: 10501.696 | P18: 15681.948 | Q18: =SUM(C18:P18) -> 1826660 | R18: 443475.7 | S18: =SUM(Q18:R18) -> 2270135.7
B19: 30-Nov-2012 | C19: 16525.041 | D19: 261197.22 | E19: 335574.26 | F19: 235535.39 | G19: 127715.38 | H19: 444.52842 | I19: 1169.1128 | J19: 18294.625 | K19: 33856.253 | L19: 767930.45 | M19: 3806.8228 | N19: 16511.586 | O19: 10265.147 | P19: 5681.9481 | Q19: =SUM(C19:P19) -> 1834507.8 | R19: 439317.99 | S19: =SUM(Q19:R19) -> 2273825.8
B20: 31-Dec-2012 | C20: 16423.526 | D20: 259071.06 | E20: 317337.66 | F20: 245337.52 | G20: 111634.72 | H20: 440.55767 | I20: 1122.5365 | J20: 17342.46 | K20: 42706.291 | L20: 771858.55 | M20: 4921.5134 | N20: 16442.5 | O20: 10154.177 | P20: 4926.0136 | Q20: =SUM(C20:P20) -> 1819719.1 | R20: 441270.7 | S20: =SUM(Q20:R20) -> 2260989.8
... B155: 31-Mar-2024 | C155: 12916.459 | D155: 353789.31 | E155: 320983.52 | F155: 71250.343 | G155: 147280.88 | H155: 21.53728 | I155: 13717.743 | J155: 235684.5 | K155: 81750.895 | L155: 867464.06 | M155: 2917.8051 | N155: 40497.215 | O155: 30613.292 | P155: 1721.9728 | Q155: =SUM(C155:P155) -> 2180609.5 | R155: 42481.19 | S155: =SUM(Q155:R155) -> 2223090.7
B156: 45412 | C156: 13132.16 | D156: 349579.78 | E156: 324736.76 | F156: 71641.131 | G156: 157516.04 | H156: 16.11015 | I156: 13992.366 | J156: 232388.27 | K156: 80362.481 | L156: 864838.29 | M156: 2767.62 | N156: 40441.697 | O156: 32513.956 | P156: 1646.2974 | Q156: =SUM(C156:P156) -> 2185573 | R156: 41084.346 | S156: =SUM(Q156:R156) -> 2226657.3
B157: 45443 | C157: 14500.111 | D157: 355291.32 | E157: 332416.82 | F157: 70283.613 | G157: 156497.3 | H157: 14.00189 | I157: 14020.024 | J157: 232191.44 | K157: 79899.508 | L157: 919084.84 | M157: 2774.6683 | N157: 47673.395 | O157: 32199.984 | P157: 8341.9721 | Q157: =SUM(C157:P157) -> 2265189 | R157: 35848.856 | S157: =SUM(Q157:R157) -> 2301037.8
B158: 45473 | C158: 14420.751 | D158: 352969.86 | E158: 340569.94 | F158: 69763.163 | G158: 155670.91 | H158: 15.01505 | I158: 15066.476 | J158: 231421 | K158: 79250.637 | L158: 912388.76 | M158: 2664.105 | N158: 42436.569 | O158: 32985.81 | P158: 8344.6268 | Q158: =SUM(C158:P158) -> 2257967.6 | R158: 35417.511 | S158: =SUM(Q158:R158) -> 2293385.1
B159: 45504 | C159: 14049.702 | D159: 349781.84 | E159: 334512.04 | F159: 73862.982 | G159: 158340.81 | H159: 9.84156 | I159: 13704.336 | J159: 229292.17 | K159: 77441.598 | L159: 919426.83 | M159: 2628.3748 | N159: 42475.687 | O159: 33492.163 | P159: 8421.5713 | Q159: =SUM(C159:P159) -> 2257439.9 | R159: 34931.708 | S159: =SUM(Q159:R159) -> 2292371.7
B160: 45535 | C160: 14656.669 | D160: 362130.67 | E160: 317845.42 | F160: 72071.868 | G160: 167730.05 | H160: 6.14029 | I160: 13898.54 | J160: 229594.93 | K160: 76618.402 | L160: 952021.89 | M160: 2586.5413 | N160: 41874.928 | O160: 33050.37 | P160: 8270.8185 | Q160: =SUM(C160:P160) -> 2292357.2 | R160: 34421.094 | S160: =SUM(Q160:R160) -> 2326778.3
B161: 45565 | C161: 14605.088 | D161: 369354.17 | E161: 321639.25 | F161: 71884.413 | G161: 173068.43 | H161: 3.83097 | I161: 13378.413 | J161: 229059.76 | K161: 78251.673 | L161: 965109.16 | M161: 2330.2791 | N161: 42161.506 | O161: 33784.826 | P161: 8338.5653 | Q161: =SUM(C161:P161) -> 2322969.4 | R161: 25060.349 | S161: =SUM(Q161:R161) -> 2348029.7
B162: 45596 | C162: 13536.5 | D162: 367810.17 | E162: 324587.72 | F162: 71758.492 | G162: 199213.42 | H162: 6.14681 | I162: 13913.103 | J162: 229610.24 | K162: 77409.249 | L162: 951942.91 | M162: 2386.5802 | N162: 41629.951 | O162: 34305.132 | P162: 8277.503 | Q162: =SUM(C162:P162) -> 2336387.1 | R162: 31199.824 | S162: =SUM(Q162:R162) -> 2367586.9
B163: 45626 | C163: 13828.136 | D163: 378578.23 | E163: 311334.51 | F163: 70243.146 | G163: 200940.78 | H163: 6.05935 | I163: 13643.45 | J163: 226594.87 | K163: 77166.129 | L163: 961498.59 | M163: 2347.5191 | N163: 41618.157 | O163: 34683.824 | P163: 8197.7329 | Q163: =SUM(C163:P163) -> 2340681.1 | R163: 45659.448 | S163: =SUM(Q163:R163) -> 2386340.6
B164: 45657 | C164: 14879.241 | D164: 371449.35 | E164: 310685.32 | F164: 88910.826 | G164: 205751.87 | H164: 4.81844 | I164: 13956.983 | J164: 224546.76 | K164: 76409.392 | L164: 954717.94 | M164: 2328.8356 | N164: 40795.991 | O164: 33603.951 | P164: 8191.9432 | Q164: =SUM(C164:P164) -> 2346233.2 | R164: 53059.721 | S164: =SUM(Q164:R164) -> 2399292.9
B165: 45688 | C165: 14900.684 | D165: 376397.89 | E165: 320813.71 | F165: 90557.385 | G165: 207411.46 | H165: 0.1099 | I165: 15123.525 | J165: 222966.52 | K165: 74802.475 | L165: 960317.25 | M165: 2208.8888 | N165: 41237.38 | O165: 33350.316 | P165: 8129.1162 | Q165: =SUM(C165:P165) -> 2368216.7 | R165: 66331.039 | S165: =SUM(Q165:R165) -> 2434547.8
B166: 45716 | C166: 15014.996 | D166: 379704.63 | E166: 299955.57 | F166: 82570.248 | G166: 209838.47 | H166: 0.00277 | I166: 15119.454 | J166: 224206.9 | K166: 70074.288 | L166: 975104.33 | M166: 2006.1203 | N166: 41117.245 | O166: 33831.067 | P166: 9452.5042 | Q166: =SUM(C166:P166) -> 2357995.8 | R166: 66292.324 | S166: =SUM(Q166:R166) -> 2424288.2
B167: 45747 | C167: 14836.727 | D167: 395739.9 | E167: 304556.78 | F167: 82682.075 | G167: 210464 | H167: 10.22616 | I167: 15392.287 | J167: 223043.39 | K167: 70894.734 | L167: 973625.71 | M167: 2111.6187 | N167: 40377.953 | O167: 33333.607 | P167: 9447.2142 | Q167: =SUM(C167:P167) -> 2376516.2 | R167: 72955.952 | S167: =SUM(Q167:R167) -> 2449472.2
... B173: 45930 | C173: 16115.215 | D173: 425223.78 | E173: 322723.77 | F173: 87909.68 | G173: 239332.04 | H173: 7.70762 | I173: 18103.784 | J173: 224810.8 | K173: 70439.647 | L173: 1006986.6 | M173: 4271.2079 | N173: 40082.516 | O173: 33902.204 | P173: 14225.975 | Q173: =SUM(C173:P173) -> 2504134.9 | R173: 78254.251 | S173: =SUM(Q173:R173) -> 2582389.2

Sheet B2C3
P1: Table B2C3
C2: COMMERCIAL BANKS' TOTAL LOANS AND ADVANCES - MORTGAGES
P3: BD$000
P4: PROVISIONAL
C5: MONEY ISSUERS in National Currency | F5: MONEY NEUTRAL in National Currency | I5: MONEY HOLDERS in National Currency | N5: Total National Currency Loans | O5: Total Foreign Currency Loans | P5: Total Loans
C6: Central Bank | D6: Other Depository Corporations | E6: Total Money Issuers | F6: Government | G6: Non-Residents | H6: Total Money Neutral | I6: Other Financial Corporations | J6: Public Non-Financial Corporations | K6: Private Non-Financial Corporations | L6: Other Resident Sectors | M6: Total MONEY HOLDERS
B9: 31-Jan-2012 | C9: 0 | D9: 0 | E9: =SUM(C9:D9) -> 0 | F9: 0 | G9: 34342.296 | H9: =SUM(F9:G9) -> 34342.296 | I9: 1662.9424 | J9: 0 | K9: 232316.07 | L9: 1676595.4 | M9: =SUM(I9:L9) -> 1910574.4 | N9: =M9+H9+E9 -> 1944916.7 | O9: 4081.6543 | P9: =N9+O9 -> 1948998.3
B10: 29-Feb-2012 | C10: 0 | D10: 0 | E10: =SUM(C10:D10) -> 0 | F10: 0.043 | G10: 34825.987 | H10: =SUM(F10:G10) -> 34826.03 | I10: 1659.272 | J10: 0 | K10: 235537.58 | L10: 1686441.8 | M10: =SUM(I10:L10) -> 1923638.6 | N10: =M10+H10+E10 -> 1958464.7 | O10: 4081.6543 | P10: =N10+O10 -> 1962546.3
B11: 31-Mar-2012 | C11: 0 | D11: 0 | E11: =SUM(C11:D11) -> 0 | F11: 0 | G11: 35113.026 | H11: =SUM(F11:G11) -> 35113.026 | I11: 1654.8058 | J11: 0 | K11: 237720.32 | L11: 1693687.9 | M11: =SUM(I11:L11) -> 1933063.1 | N11: =M11+H11+E11 -> 1968176.1 | O11: 4081.6543 | P11: =N11+O11 -> 1972257.7
B12: 30-Apr-2012 | C12: 0 | D12: 0 | E12: =SUM(C12:D12) -> 0 | F12: 0 | G12: 35175.417 | H12: =SUM(F12:G12) -> 35175.417 | I12: 1651.0767 | J12: 0 | K12: 235441.98 | L12: 2131509.4 | M12: =SUM(I12:L12) -> 2368602.5 | N12: =M12+H12+E12 -> 2403777.9 | O12: 4081.6543 | P12: =N12+O12 -> 2407859.5
B13: 31-May-2012 | C13: 0 | D13: 0 | E13: =SUM(C13:D13) -> 0 | F13: 0 | G13: 35122.092 | H13: =SUM(F13:G13) -> 35122.092 | I13: 1646.9379 | J13: 0 | K13: 235810.52 | L13: 2136975.2 | M13: =SUM(I13:L13) -> 2374432.7 | N13: =M13+H13+E13 -> 2409554.8 | O13: 4081.6543 | P13: =N13+O13 -> 2413636.4
B14: 30-Jun-2012 | C14: 0 | D14: 0 | E14: =SUM(C14:D14) -> 0 | F14: 0.32879 | G14: 35397.492 | H14: =SUM(F14:G14) -> 35397.821 | I14: 1643.152 | J14: 0 | K14: 235563.69 | L14: 2145614.5 | M14: =SUM(I14:L14) -> 2382821.4 | N14: =M14+H14+E14 -> 2418219.2 | O14: 4081.6543 | P14: =N14+O14 -> 2422300.8
B15: 31-Jul-2012 | C15: 0 | D15: 0 | E15: =SUM(C15:D15) -> 0 | F15: 0 | G15: 35339.13 | H15: =SUM(F15:G15) -> 35339.13 | I15: 1638.9578 | J15: 0 | K15: 235030 | L15: 2153937.4 | M15: =SUM(I15:L15) -> 2390606.3 | N15: =M15+H15+E15 -> 2425945.5 | O15: 4081.6543 | P15: =N15+O15 -> 2430027.1
B16: 31-Aug-2012 | C16: 0 | D16: 0 | E16: =SUM(C16:D16) -> 0 | F16: 0 | G16: 35281.18 | H16: =SUM(F16:G16) -> 35281.18 | I16: 1631.243 | J16: 0 | K16: 233545.84 | L16: 2159010.7 | M16: =SUM(I16:L16) -> 2394187.8 | N16: =M16+H16+E16 -> 2429469 | O16: 4081.6543 | P16: =N16+O16 -> 2433550.7
B17: 30-Sep-2012 | C17: 0 | D17: 0 | E17: =SUM(C17:D17) -> 0 | F17: 0 | G17: 34718.408 | H17: =SUM(F17:G17) -> 34718.408 | I17: 1626.9656 | J17: 0 | K17: 233002.84 | L17: 2170559.4 | M17: =SUM(I17:L17) -> 2405189.2 | N17: =M17+H17+E17 -> 2439907.6 | O17: 4081.6543 | P17: =N17+O17 -> 2443989.3
B18: 31-Oct-2012 | C18: 0 | D18: 0 | E18: =SUM(C18:D18) -> 0 | F18: 0 | G18: 34652.364 | H18: =SUM(F18:G18) -> 34652.364 | I18: 1626.9656 | J18: 0 | K18: 230647.11 | L18: 2178876.8 | M18: =SUM(I18:L18) -> 2411150.9 | N18: =M18+H18+E18 -> 2445803.3 | O18: 4081.6543 | P18: =N18+O18 -> 2449884.9
B19: 30-Nov-2012 | C19: 0 | D19: 0 | E19: =SUM(C19:D19) -> 0 | F19: 0 | G19: 34607.472 | H19: =SUM(F19:G19) -> 34607.472 | I19: 1623.0355 | J19: 0 | K19: 231293.17 | L19: 2189236 | M19: =SUM(I19:L19) -> 2422152.2 | N19: =M19+H19+E19 -> 2456759.7 | O19: 4081.6543 | P19: =N19+O19 -> 2460841.3
B20: 31-Dec-2012 | C20: 0 | D20: 0 | E20: =SUM(C20:D20) -> 0 | F20: 0 | G20: 34674.615 | H20: =SUM(F20:G20) -> 34674.615 | I20: 1618.7008 | J20: 0 | K20: 225679.49 | L20: 2198690.7 | M20: =SUM(I20:L20) -> 2425988.9 | N20: =M20+H20+E20 -> 2460663.5 | O20: 4001.4458 | P20: =N20+O20 -> 2464664.9
... B155: 31-Mar-2024 | C155: 0 | D155: 0 | E155: =SUM(C155:D155) -> 0 | F155: 0 | G155: 38544.743 | H155: =SUM(F155:G155) -> 38544.743 | I155: 18010.204 | J155: 0 | K155: 674858.27 | L155: 2533903.1 | M155: =SUM(I155:L155) -> 3226771.6 | N155: =M155+H155+E155 -> 3265316.3 | O155: 37431.822 | P155: =N155+O155 -> 3302748.1
B156: 45412 | C156: 0 | D156: 0 | E156: =SUM(C156:D156) -> 0 | F156: 0 | G156: 38275.371 | H156: =SUM(F156:G156) -> 38275.371 | I156: 16180.989 | J156: 0 | K156: 679475.77 | L156: 2528730.3 | M156: =SUM(I156:L156) -> 3224387 | N156: =M156+H156+E156 -> 3262662.4 | O156: 37796.899 | P156: =N156+O156 -> 3300459.3
B157: 45443 | C157: 0 | D157: 0 | E157: =SUM(C157:D157) -> 0 | F157: 0 | G157: 37976.723 | H157: =SUM(F157:G157) -> 37976.723 | I157: 16157.027 | J157: 0 | K157: 684261.02 | L157: 2527944.7 | M157: =SUM(I157:L157) -> 3228362.8 | N157: =M157+H157+E157 -> 3266339.5 | O157: 37490.32 | P157: =N157+O157 -> 3303829.8
B158: 45473 | C158: 0 | D158: 0 | E158: =SUM(C158:D158) -> 0 | F158: 0 | G158: 37653.336 | H158: =SUM(F158:G158) -> 37653.336 | I158: 16128.373 | J158: 0 | K158: 684352.25 | L158: 2525075 | M158: =SUM(I158:L158) -> 3225555.6 | N158: =M158+H158+E158 -> 3263209 | O158: 37411.906 | P158: =N158+O158 -> 3300620.9
B159: 45504 | C159: 0 | D159: 0 | E159: =SUM(C159:D159) -> 0 | F159: 0 | G159: 39249.717 | H159: =SUM(F159:G159) -> 39249.717 | I159: 15869.079 | J159: 0 | K159: 702530.8 | L159: 2532645.4 | M159: =SUM(I159:L159) -> 3251045.3 | N159: =M159+H159+E159 -> 3290295 | O159: 43623.099 | P159: =N159+O159 -> 3333918.1
B160: 45535 | C160: 0 | D160: 0 | E160: =SUM(C160:D160) -> 0 | F160: 0 | G160: 39921.546 | H160: =SUM(F160:G160) -> 39921.546 | I160: 15844.998 | J160: 0 | K160: 720542.41 | L160: 2538685.8 | M160: =SUM(I160:L160) -> 3275073.2 | N160: =M160+H160+E160 -> 3314994.7 | O160: 43500.961 | P160: =N160+O160 -> 3358495.7
B161: 45565 | C161: 0 | D161: 0 | E161: =SUM(C161:D161) -> 0 | F161: 0 | G161: 40198.178 | H161: =SUM(F161:G161) -> 40198.178 | I161: 15815.908 | J161: 0 | K161: 721451.78 | L161: 2539980.2 | M161: =SUM(I161:L161) -> 3277247.9 | N161: =M161+H161+E161 -> 3317446.1 | O161: 42878.248 | P161: =N161+O161 -> 3360324.3
B162: 45596 | C162: 0 | D162: 0 | E162: =SUM(C162:D162) -> 0 | F162: 0 | G162: 40713.149 | H162: =SUM(F162:G162) -> 40713.149 | I162: 17009.87 | J162: 0 | K162: 739611.19 | L162: 2546203.7 | M162: =SUM(I162:L162) -> 3302824.8 | N162: =M162+H162+E162 -> 3343537.9 | O162: 54823.207 | P162: =N162+O162 -> 3398361.1
B163: 45626 | C163: 0 | D163: 0 | E163: =SUM(C163:D163) -> 0 | F163: 0 | G163: 45082.065 | H163: =SUM(F163:G163) -> 45082.065 | I163: 17348.119 | J163: 0 | K163: 744277.16 | L163: 2558432.3 | M163: =SUM(I163:L163) -> 3320057.5 | N163: =M163+H163+E163 -> 3365139.6 | O163: 68551.053 | P163: =N163+O163 -> 3433690.7
B164: 45657 | C164: 0 | D164: 0 | E164: =SUM(C164:D164) -> 0 | F164: 0 | G164: 45811.903 | H164: =SUM(F164:G164) -> 45811.903 | I164: 18373.858 | J164: 0 | K164: 744321.46 | L164: 2558549.3 | M164: =SUM(I164:L164) -> 3321244.6 | N164: =M164+H164+E164 -> 3367056.5 | O164: 75880.751 | P164: =N164+O164 -> 3442937.3
B165: 45688 | C165: 0 | D165: 0 | E165: =SUM(C165:D165) -> 0 | F165: 0 | G165: 45536.221 | H165: =SUM(F165:G165) -> 45536.221 | I165: 18007.853 | J165: 0 | K165: 747964.35 | L165: 2563520.5 | M165: =SUM(I165:L165) -> 3329492.7 | N165: =M165+H165+E165 -> 3375028.9 | O165: 89066.198 | P165: =N165+O165 -> 3464095.1
B166: 45716 | C166: 0 | D166: 0 | E166: =SUM(C166:D166) -> 0 | F166: 0 | G166: 44920.734 | H166: =SUM(F166:G166) -> 44920.734 | I166: 19258.368 | J166: 0 | K166: 744021.2 | L166: 2565102.7 | M166: =SUM(I166:L166) -> 3328382.2 | N166: =M166+H166+E166 -> 3373303 | O166: 96457.558 | P166: =N166+O166 -> 3469760.5
B167: 45747 | C167: 0 | D167: 0 | E167: =SUM(C167:D167) -> 0 | F167: 0 | G167: 46609.545 | H167: =SUM(F167:G167) -> 46609.545 | I167: 19224.446 | J167: 0 | K167: 763611.57 | L167: 2572496.1 | M167: =SUM(I167:L167) -> 3355332.1 | N167: =M167+H167+E167 -> 3401941.7 | O167: 116520.25 | P167: =N167+O167 -> 3518461.9
... B173: 45930 | C173: 0 | D173: 0 | E173: =SUM(C173:D173) -> 0 | F173: 0 | G173: 53695.375 | H173: =SUM(F173:G173) -> 53695.375 | I173: 20499.027 | J173: 0 | K173: 774663.14 | L173: 2591050.1 | M173: =SUM(I173:L173) -> 3386212.3 | N173: =M173+H173+E173 -> 3439907.7 | O173: 120496.47 | P173: =N173+O173 -> 3560404.2

Sheet B2C4
S1: Table B2C4
B2: COMMERCIAL BANKS' LOANS AND ADVANCES TO PRIVATE NON-FINANCIAL CORPORATIONS - MORTGAGES
S3: BD$000
S4: PROVISIONAL
C5: PRIVATE NON-FINANCIAL CORPORATIONS in National Currency | R5: Private Non-Financial Corporations Foreign Currency | S5: Private Non-Financial Corporations Loans
C6: Agriculture | D6: Hotels and Restaurants | E6: Distribution | F6: Construction | G6: Manufacturing | H6: Fishing | I6: Mining and quarrying | J6: Electricity, gas and water supply | K6: Transport, storage and communication | L6: Real estate, renting and other business activities | M6: Education | N6: Health and social work | O6: Recreational, personal and community work | P6: Other | Q6: TOTAL
B9: 31-Jan-2012 | C9: 363 | D9: 12535.895 | E9: 20264.99 | F9: 47836.082 | G9: 21156.857 | H9: 0 | I9: 0 | J9: 87 | K9: 2209.9198 | L9: 125134.71 | M9: 73.74946 | N9: 748.99302 | O9: 1904.8756 | P9: 0 | Q9: =SUM(C9:P9) -> 232316.07 | R9: 0 | S9: =SUM(Q9:R9) -> 232316.07
B10: 29-Feb-2012 | C10: 358 | D10: 12503.316 | E10: 20184.26 | F10: 47696.082 | G10: 24985.857 | H10: 0 | I10: 0 | J10: 85 | K10: 2206.9198 | L10: 124796.53 | M10: 73.74946 | N10: 748.99302 | O10: 1898.8756 | P10: 0 | Q10: =SUM(C10:P10) -> 235537.58 | R10: 0 | S10: =SUM(Q10:R10) -> 235537.58
B11: 31-Mar-2012 | C11: 352 | D11: 12956.267 | E11: 20061.868 | F11: 47674.082 | G11: 24911.857 | H11: 0 | I11: 0 | J11: 83 | K11: 2202.9198 | L11: 126761.24 | M11: 73.74946 | N11: 748.45902 | O11: 1894.8756 | P11: 0 | Q11: =SUM(C11:P11) -> 237720.32 | R11: 0 | S11: =SUM(Q11:R11) -> 237720.32
B12: 30-Apr-2012 | C12: 347 | D12: 9732.3795 | E12: 19963.276 | F12: 47632.082 | G12: 24840.857 | H12: 0 | I12: 0 | J12: 81 | K12: 2198.9198 | L12: 127935.95 | M12: 73.74946 | N12: 747.89702 | O12: 1888.8756 | P12: 0 | Q12: =SUM(C12:P12) -> 235441.98 | R12: 0 | S12: =SUM(Q12:R12) -> 235441.98
B13: 31-May-2012 | C13: 341 | D13: 9708.7629 | E13: 19788.767 | F13: 47623.082 | G13: 24708.857 | H13: 0 | I13: 0 | J13: 79 | K13: 2195.9198 | L13: 128660.3 | M13: 73.74946 | N13: 747.20802 | O13: 1883.8756 | P13: 0 | Q13: =SUM(C13:P13) -> 235810.52 | R13: 0 | S13: =SUM(Q13:R13) -> 235810.52
B14: 30-Jun-2012 | C14: 338 | D14: 9669.0164 | E14: 19706.812 | F14: 47610.082 | G14: 24583.857 | H14: 0 | I14: 0 | J14: 77 | K14: 2194.9198 | L14: 128679.17 | M14: 73.74946 | N14: 747.20829 | O14: 1883.8756 | P14: 0 | Q14: =SUM(C14:P14) -> 235563.69 | R14: 0 | S14: =SUM(Q14:R14) -> 235563.69
B15: 31-Jul-2012 | C15: 331 | D15: 9659.3093 | E15: 19584.95 | F15: 47581.082 | G15: 24444.857 | H15: 0 | I15: 0 | J15: 75 | K15: 2188.9198 | L15: 128471.31 | M15: 73.74946 | N15: 745.94102 | O15: 1873.8756 | P15: 0 | Q15: =SUM(C15:P15) -> 235030 | R15: 0 | S15: =SUM(Q15:R15) -> 235030
B16: 31-Aug-2012 | C16: 324 | D16: 9571.4427 | E16: 19499.853 | F16: 47547.082 | G16: 24314.857 | H16: 0 | I16: 0 | J16: 73 | K16: 2184.9198 | L16: 127342.69 | M16: 73.74946 | N16: 745.36202 | O16: 1868.8756 | P16: 0 | Q16: =SUM(C16:P16) -> 233545.84 | R16: 0 | S16: =SUM(Q16:R16) -> 233545.84
B17: 30-Sep-2012 | C17: 321 | D17: 9533.3696 | E17: 19448.699 | F17: 47534.082 | G17: 24189.857 | H17: 0 | I17: 0 | J17: 71 | K17: 2182.9198 | L17: 127033.93 | M17: 73.74946 | N17: 745.36202 | O17: 1868.8756 | P17: 0 | Q17: =SUM(C17:P17) -> 233002.84 | R17: 0 | S17: =SUM(Q17:R17) -> 233002.84
B18: 31-Oct-2012 | C18: 312 | D18: 9502.6493 | E18: 19298.844 | F18: 46368.082 | G18: 24048.857 | H18: 0 | I18: 0 | J18: 69 | K18: 2176.9198 | L18: 126194.06 | M18: 73.74946 | N18: 744.07002 | O18: 1858.8756 | P18: 0 | Q18: =SUM(C18:P18) -> 230647.11 | R18: 0 | S18: =SUM(Q18:R18) -> 230647.11
B19: 30-Nov-2012 | C19: 309 | D19: 9459.2502 | E19: 19213.452 | F19: 46356.082 | G19: 23920.857 | H19: 0 | I19: 0 | J19: 67 | K19: 2175.9198 | L19: 127115.91 | M19: 73.74946 | N19: 744.07002 | O19: 1857.8756 | P19: 0 | Q19: =SUM(C19:P19) -> 231293.17 | R19: 0 | S19: =SUM(Q19:R19) -> 231293.17
B20: 31-Dec-2012 | C20: 300 | D20: 9409.9009 | E20: 19052.017 | F20: 45061.84 | G20: 23775.112 | H20: 0 | I20: 0 | J20: 50 | K20: 2133.6389 | L20: 123248.15 | M20: 73.63329 | N20: 729.13502 | O20: 1846.057 | P20: 0 | Q20: =SUM(C20:P20) -> 225679.49 | R20: 0 | S20: =SUM(Q20:R20) -> 225679.49
... B155: 31-Mar-2024 | C155: 1581.9986 | D155: 177876.71 | E155: 92694.493 | F155: 42579.841 | G155: 18716.841 | H155: 0 | I155: 1945.8929 | J155: 6309.8621 | K155: 8914.2229 | L155: 293290.93 | M155: 1757.5891 | N155: 14053.298 | O155: 15069.569 | P155: 67.02116 | Q155: =SUM(C155:P155) -> 674858.27 | R155: 19783.784 | S155: =SUM(Q155:R155) -> 694642.05
B156: 45412 | C156: 1570.1776 | D156: 176591.75 | E156: 93354.125 | F156: 42076.397 | G156: 23297.936 | H156: 0 | I156: 1929.503 | J156: 6253.5312 | K156: 8850.2327 | L156: 294960.25 | M156: 1700.6893 | N156: 13916.02 | O156: 14911.408 | P156: 63.74116 | Q156: =SUM(C156:P156) -> 679475.77 | R156: 19783.784 | S156: =SUM(Q156:R156) -> 699259.55
B157: 45443 | C157: 1560.7244 | D157: 175627.39 | E157: 92730.985 | F157: 39424.727 | G157: 23167.659 | H157: 0 | I157: 1921.3799 | J157: 6215.8588 | K157: 8810.5554 | L157: 296793.65 | M157: 1643.4099 | N157: 20910.021 | O157: 14028.593 | P157: 1426.0622 | Q157: =SUM(C157:P157) -> 684261.02 | R157: 19783.784 | S157: =SUM(Q157:R157) -> 704044.8
B158: 45473 | C158: 1557.483 | D158: 174917.92 | E158: 92290.449 | F158: 39411.55 | G158: 23716.99 | H158: 0 | I158: 1921.3799 | J158: 6215.8588 | K158: 8795.9954 | L158: 297630.28 | M158: 1586.1222 | N158: 20869.828 | O158: 14021.439 | P158: 1416.9623 | Q158: =SUM(C158:P158) -> 684352.25 | R158: 19783.784 | S158: =SUM(Q158:R158) -> 704136.04
B159: 45504 | C159: 1554.6712 | D159: 186223.86 | E159: 92114.788 | F159: 39236.062 | G159: 25088.459 | H159: 0 | I159: 1904.5079 | J159: 6804.0526 | K159: 8726.7302 | L159: 303107.18 | M159: 1528.4661 | N159: 20964.259 | O159: 13870.729 | P159: 1407.0352 | Q159: =SUM(C159:P159) -> 702530.8 | R159: 19783.784 | S159: =SUM(Q159:R159) -> 722314.59
B160: 45535 | C160: 1552.5152 | D160: 186724.36 | E160: 92922.294 | F160: 39214.596 | G160: 28117.787 | H160: 0 | I160: 1904.5079 | J160: 6879.0526 | K160: 8702.2992 | L160: 317419.46 | M160: 1470.788 | N160: 20613.53 | O160: 13624.765 | P160: 1396.4583 | Q160: =SUM(C160:P160) -> 720542.41 | R160: 19783.784 | S160: =SUM(Q160:R160) -> 740326.19
B161: 45565 | C161: 545.93475 | D161: 185032.6 | E161: 92389.923 | F161: 39063.578 | G161: 29660.012 | H161: 0 | I161: 1887.563 | J161: 6780.6032 | K161: 8632.1758 | L161: 320379.35 | M161: 1412.9139 | N161: 19988.197 | O161: 14292.559 | P161: 1386.3628 | Q161: =SUM(C161:P161) -> 721451.78 | R161: 19783.784 | S161: =SUM(Q161:R161) -> 741235.56
B162: 45596 | C162: 543.07769 | D162: 183591.57 | E162: 91342.843 | F162: 38946.015 | G162: 44182.605 | H162: 0 | I162: 1879.1574 | J162: 6774.7596 | K162: 9210.6253 | L162: 326305.69 | M162: 1354.6884 | N162: 19903.728 | O162: 14200.173 | P162: 1376.2636 | Q162: =SUM(C162:P162) -> 739611.19 | R162: 19783.784 | S162: =SUM(Q162:R162) -> 759394.98
B163: 45626 | C163: 540.20795 | D163: 183818.87 | E163: 90852.884 | F163: 38932.675 | G163: 44013.272 | H163: 0 | I163: 1879.1574 | J163: 6774.7596 | K163: 9191.3208 | L163: 331553.17 | M163: 1296.4198 | N163: 19864.821 | O163: 14192.879 | P163: 1366.7226 | Q163: =SUM(C163:P163) -> 744277.16 | R163: 34108.108 | S163: =SUM(Q163:R163) -> 778385.27
B164: 45657 | C164: 536.84665 | D164: 181639.43 | E164: 90335.724 | F164: 38772.294 | G164: 43621.373 | H164: 0 | I164: 1862.0202 | J164: 6674.1417 | K164: 9100.9415 | L164: 335426.99 | M164: 1237.8113 | N164: 19734.813 | O164: 14023.253 | P164: 1355.824 | Q164: =SUM(C164:P164) -> 744321.46 | R164: 41558.108 | S164: =SUM(Q164:R164) -> 785879.57
B165: 45688 | C165: 533.45492 | D165: 180436.66 | E165: 88038.958 | F165: 39371.901 | G165: 46249.195 | H165: 0 | I165: 1853.5361 | J165: 6668.2307 | K165: 9055.5505 | L165: 339657.63 | M165: 1179.1457 | N165: 19646.908 | O165: 13927.584 | P165: 1345.6038 | Q165: =SUM(C165:P165) -> 747964.35 | R165: 54855.405 | S165: =SUM(Q165:R165) -> 802819.76
B166: 45716 | C166: 530.06374 | D166: 179120.45 | E166: 87090.124 | F166: 39285.846 | G166: 46136.838 | H166: 0 | I166: 1844.3346 | J166: 6661.8682 | K166: 4014.0095 | L166: 343491.6 | M166: 1120.2809 | N166: 19560.307 | O166: 13828.154 | P166: 1337.3273 | Q166: =SUM(C166:P166) -> 744021.2 | R166: 54855.405 | S166: =SUM(Q166:R166) -> 798876.61
B167: 45747 | C167: 526.16254 | D167: 197194.41 | E167: 86264.221 | F167: 41469.81 | G167: 45863.209 | H167: 0 | I167: 1835.7835 | J167: 6580.9543 | K167: 3954.6777 | L167: 343494.12 | M167: 1060.8477 | N167: 18958.374 | O167: 15075.79 | P167: 1333.2045 | Q167: =SUM(C167:P167) -> 763611.57 | R167: 61504.054 | S167: =SUM(Q167:R167) -> 825115.62
... B173: 45930 | C173: 2213.1733 | D173: 188306.48 | E173: 80197.184 | F173: 40790.631 | G173: 47058.261 | H173: 0 | I173: 1783.111 | J173: 6348.152 | K173: 2634.9829 | L173: 369831.78 | M173: 702.00462 | N173: 18965.369 | O173: 14518.741 | P173: 1313.2724 | Q173: =SUM(C173:P173) -> 774663.14 | R173: 67450 | S173: =SUM(Q173:R173) -> 842113.14

Sheet B2C5
W1: Table B2C5
C2: COMMERCIAL BANKS' CREDIT CARDS
W3: BD$000
V4: PROVISIONAL
C5: Credit Outstanding | F5: New Credit Extended | M5: Total Value of Credit Limits | P5: Interest Earned on Transactions | Q5: Fees Paid to Financial & Other Inst. | R5: Total Number of Cards Issued
F6: TOTAL | G6: Personal | J6: Business
C7: TOTAL | D7: Personal Sector | E7: Business Sector | G7: Total | H7: Domestic | I7: Foreign | J7: Total | K7: Domestic | L7: Foreign | M7: TOTAL | N7: Personal Sector | O7: Business Sector | R7: TOTAL | S7: Gold | T7: Business | U7: Classic | V7: Platinum | W7: Other
A9: ='B2C-expanded'!B9 -> 31-Jan-2012 | C9: =SUM(D9:E9) -> 314922 | D9: 300393 | E9: 14529 | F9: =G9+J9 -> 72998 | G9: =SUM(H9:I9) -> 60538 | H9: 39542 | I9: 20996 | J9: =SUM(K9:L9) -> 12460 | K9: 4270 | L9: 8190 | M9: =SUM(N9:O9) -> 905534 | N9: 804819 | O9: 100715 | P9: 4630 | Q9: 2248 | R9: =SUM(S9:W9) -> 96749 | S9: 14031 | T9: 1981 | U9: 79785 | V9: NA | W9: 952
A10: ='B2C-expanded'!B10 -> 29-Feb-2012 | C10: =SUM(D10:E10) -> 314106 | D10: 298394 | E10: 15712 | F10: =G10+J10 -> 71103 | G10: =SUM(H10:I10) -> 57330 | H10: 37432 | I10: 19898 | J10: =SUM(K10:L10) -> 13773 | K10: 3871 | L10: 9902 | M10: =SUM(N10:O10) -> 908259 | N10: 806833 | O10: 101426 | P10: 4981 | Q10: 1718 | R10: =SUM(S10:W10) -> 96652 | S10: 14036 | T10: 1991 | U10: 79686 | V10: NA | W10: 939
A11: ='B2C-expanded'!B11 -> 31-Mar-2012 | C11: =SUM(D11:E11) -> 308413 | D11: 293355 | E11: 15058 | F11: =G11+J11 -> 75829 | G11: =SUM(H11:I11) -> 62137 | H11: 39637 | I11: 22500 | J11: =SUM(K11:L11) -> 13692 | K11: 4010 | L11: 9682 | M11: =SUM(N11:O11) -> 915661 | N11: 812980 | O11: 102681 | P11: 5002 | Q11: 1733 | R11: =SUM(S11:W11) -> 96501 | S11: 14040 | T11: 2000 | U11: 79527 | V11: NA | W11: 934
A12: ='B2C-expanded'!B12 -> 30-Apr-2012 | C12: =SUM(D12:E12) -> 307674 | D12: 293013 | E12: 14661 | F12: =G12+J12 -> 72400 | G12: =SUM(H12:I12) -> 60083 | H12: 35687 | I12: 24396 | J12: =SUM(K12:L12) -> 12317 | K12: 3242 | L12: 9075 | M12: =SUM(N12:O12) -> 921347 | N12: 817015 | O12: 104332 | P12: 5081 | Q12: 1806 | R12: =SUM(S12:W12) -> 96541 | S12: 14036 | T12: 2009 | U12: 79571 | V12: NA | W12: 925
A13: ='B2C-expanded'!B13 -> 31-May-2012 | C13: =SUM(D13:E13) -> 308332 | D13: 292741 | E13: 15591 | F13: =G13+J13 -> 79752 | G13: =SUM(H13:I13) -> 65284 | H13: 38815 | I13: 26469 | J13: =SUM(K13:L13) -> 14468 | K13: 4422 | L13: 10046 | M13: =SUM(N13:O13) -> 927740 | N13: 821608 | O13: 106132 | P13: 5489 | Q13: 2009 | R13: =SUM(S13:W13) -> 96674 | S13: 14463 | T13: 2017 | U13: 79230 | V13: NA | W13: 964
A14: ='B2C-expanded'!B14 -> 30-Jun-2012 | C14: =SUM(D14:E14) -> 275467 | D14: 261532 | E14: 13935 | F14: =G14+J14 -> 80560 | G14: =SUM(H14:I14) -> 65813 | H14: 38916 | I14: 26897 | J14: =SUM(K14:L14) -> 14747 | K14: 4566 | L14: 10181 | M14: =SUM(N14:O14) -> 939873 | N14: 832622 | O14: 107251 | P14: 4208 | Q14: 1872 | R14: =SUM(S14:W14) -> 98224 | S14: 14177 | T14: 2018 | U14: 81075 | V14: NA | W14: 954
A15: ='B2C-expanded'!B15 -> 31-Jul-2012 | C15: =SUM(D15:E15) -> 313167 | D15: 297771 | E15: 15396 | F15: =G15+J15 -> 89156 | G15: =SUM(H15:I15) -> 73570 | H15: 41845 | I15: 31725 | J15: =SUM(K15:L15) -> 15586 | K15: 5455 | L15: 10131 | M15: =SUM(N15:O15) -> 956124 | N15: 846557 | O15: 109567 | P15: 7052 | Q15: 2616 | R15: =SUM(S15:W15) -> 99773 | S15: 14406 | T15: 2028 | U15: 82382 | V15: NA | W15: 957
A16: ='B2C-expanded'!B16 -> 31-Aug-2012 | C16: =SUM(D16:E16) -> 314307 | D16: 299912 | E16: 14395 | F16: =G16+J16 -> 87157 | G16: =SUM(H16:I16) -> 73071 | H16: 40076 | I16: 32995 | J16: =SUM(K16:L16) -> 14086 | K16: 5188 | L16: 8898 | M16: =SUM(N16:O16) -> 967844 | N16: 854795 | O16: 113049 | P16: 4689 | Q16: 1638 | R16: =SUM(S16:W16) -> 100087 | S16: 14501 | T16: 2024 | U16: 82625 | V16: NA | W16: 937
A17: ='B2C-expanded'!B17 -> 30-Sep-2012 | C17: =SUM(D17:E17) -> 321402 | D17: 305676 | E17: 15726 | F17: =G17+J17 -> 84766 | G17: =SUM(H17:I17) -> 70906 | H17: 45778 | I17: 25128 | J17: =SUM(K17:L17) -> 13860 | K17: 7450 | L17: 6410 | M17: =SUM(N17:O17) -> 785676 | N17: 706375 | O17: 79301 | P17: 4891 | Q17: 2096 | R17: =SUM(S17:W17) -> 99511 | S17: 14648 | T17: 2020 | U17: 81930 | V17: NA | W17: 913
A18: ='B2C-expanded'!B18 -> 31-Oct-2012 | C18: =SUM(D18:E18) -> 318811 | D18: 302289 | E18: 16522 | F18: =G18+J18 -> 88143 | G18: =SUM(H18:I18) -> 70951 | H18: 39896 | I18: 31055 | J18: =SUM(K18:L18) -> 17192 | K18: 5361 | L18: 11831 | M18: =SUM(N18:O18) -> 978156 | N18: 862845 | O18: 115311 | P18: 6357 | Q18: 2602 | R18: =SUM(S18:W18) -> 98221 | S18: 15286 | T18: 2851 | U18: 57086 | V18: NA | W18: 22998
A19: ='B2C-expanded'!B19 -> 30-Nov-2012 | C19: =SUM(D19:E19) -> 322479 | D19: 303305 | E19: 19174 | F19: =G19+J19 -> 87266 | G19: =SUM(H19:I19) -> 70472 | H19: 41598 | I19: 28874 | J19: =SUM(K19:L19) -> 16794 | K19: 6117 | L19: 10677 | M19: =SUM(N19:O19) -> 983902 | N19: 866272 | O19: 117630 | P19: 4287 | Q19: 2283 | R19: =SUM(S19:W19) -> 98306 | S19: 15857 | T19: 2861 | U19: 56682 | V19: NA | W19: 22906
A20: ='B2C-expanded'!B20 -> 31-Dec-2012 | C20: =SUM(D20:E20) -> 326453 | D20: 308168 | E20: 18285 | F20: =G20+J20 -> 91033 | G20: =SUM(H20:I20) -> 75857 | H20: 50640 | I20: 25217 | J20: =SUM(K20:L20) -> 15176 | K20: 5794 | L20: 9382 | M20: =SUM(N20:O20) -> 996464 | N20: 878023 | O20: 118441 | P20: 4391 | Q20: 393 | R20: =SUM(S20:W20) -> 98677 | S20: 16240 | T20: 2871 | U20: 56692 | V20: NA | W20: 22874
... A56: ='B2C-expanded'!B56 -> 31-Dec-2015 | C56: =SUM(D56:E56) -> 349347 | D56: 327850 | E56: 21497 | F56: =G56+J56 -> 92066 | G56: =SUM(H56:I56) -> 77238 | H56: 48232 | I56: 29006 | J56: =SUM(K56:L56) -> 14828 | K56: 7372 | L56: 7456 | M56: =SUM(N56:O56) -> 1167680 | N56: 1038898 | O56: 128782 | P56: 5019 | Q56: 948 | R56: =SUM(S56:W56) -> 90306 | S56: 17637 | T56: 2734 | U56: 48300 | V56: NA | W56: 21635
A57: ='B2C-expanded'!B57 -> 31-Jan-2016 | C57: =SUM(D57:E57) -> 359230.68 | D57: 337911.19 | E57: 21319.485 | F57: =G57+J57 -> 78215.671 | G57: =SUM(H57:I57) -> 62603.161 | H57: 47280.788 | I57: 15322.373 | J57: =SUM(K57:L57) -> 15612.51 | K57: 9362.845 | L57: 6249.6646 | M57: =SUM(N57:O57) -> 1178534.1 | N57: 1046029.1 | O57: 132505.03 | P57: 5112.7378 | Q57: 2450.7186 | R57: =SUM(S57:W57) -> 90202 | S57: 12334 | T57: 2741 | U57: 48334 | V57: 7117 | W57: 19676
A58: ='B2C-expanded'!B58 -> 29-Feb-2016 | C58: =SUM(D58:E58) -> 353756.4 | D58: 333031.86 | E58: 20724.539 | F58: =G58+J58 -> 79094.437 | G58: =SUM(H58:I58) -> 63550.174 | H58: 47072.979 | I58: 16477.194 | J58: =SUM(K58:L58) -> 15544.263 | K58: 9112.5598 | L58: 6431.7033 | M58: =SUM(N58:O58) -> 1211262.7 | N58: 1055331.2 | O58: 155931.42 | P58: 4952.3893 | Q58: 916.91631 | R58: =SUM(S58:W58) -> 93085 | S58: 12175 | T58: 2261 | U58: 56958 | V58: 18333 | W58: 3358
A59: ='B2C-expanded'!B59 -> 31-Mar-2016 | C59: =SUM(D59:E59) -> 349214.62 | D59: 328552.31 | E59: 20662.313 | F59: =G59+J59 -> 95562.618 | G59: =SUM(H59:I59) -> 74366.398 | H59: 55894.182 | I59: 18472.216 | J59: =SUM(K59:L59) -> 21196.22 | K59: 14540.83 | L59: 6655.3905 | M59: =SUM(N59:O59) -> 1203221.8 | N59: 1069586.4 | O59: 133635.42 | P59: 4847.5765 | Q59: 2561.01 | R59: =SUM(S59:W59) -> 91344 | S59: 11365 | T59: 1978 | U59: 56357 | V59: 18230 | W59: 3414
A60: ='B2C-expanded'!B60 -> 30-Apr-2016 | C60: =SUM(D60:E60) -> 351542.73 | D60: 329508.09 | E60: 22034.642 | F60: =G60+J60 -> 82644.552 | G60: =SUM(H60:I60) -> 67084.799 | H60: 47796.533 | I60: 19288.267 | J60: =SUM(K60:L60) -> 15559.753 | K60: 9442.0275 | L60: 6117.7254 | M60: =SUM(N60:O60) -> 1206572.3 | N60: 1071561.8 | O60: 135010.46 | P60: 4826.0134 | Q60: 2215.5305 | R60: =SUM(S60:W60) -> 94510 | S60: 12430 | T60: 2302 | U60: 57540 | V60: 18736 | W60: 3502
A61: ='B2C-expanded'!B61 -> 31-May-2016 | C61: =SUM(D61:E61) -> 350143.89 | D61: 328319.06 | E61: 21824.828 | F61: =G61+J61 -> 88547.917 | G61: =SUM(H61:I61) -> 71760.365 | H61: 50128.147 | I61: 21632.218 | J61: =SUM(K61:L61) -> 16787.551 | K61: 10280.443 | L61: 6507.1088 | M61: =SUM(N61:O61) -> 1213748.7 | N61: 1077018.9 | O61: 136729.84 | P61: 5006.7545 | Q61: 4332.0267 | R61: =SUM(S61:W61) -> 93742 | S61: 12323 | T61: 2256 | U61: 56732 | V61: 18873 | W61: 3558
A62: ='B2C-expanded'!B62 -> 30-Jun-2016 | C62: =SUM(D62:E62) -> 340342.06 | D62: 317812.8 | E62: 22529.265 | F62: =G62+J62 -> 87532.243 | G62: =SUM(H62:I62) -> 71122.894 | H62: 48875.19 | I62: 22247.704 | J62: =SUM(K62:L62) -> 16409.349 | K62: 9365.5113 | L62: 7043.8379 | M62: =SUM(N62:O62) -> 1218436.2 | N62: 1080672 | O62: 137764.28 | P62: 4788.3727 | Q62: 1458.7159 | R62: =SUM(S62:W62) -> 92755 | S62: 12249 | T62: 2265 | U62: 56591 | V62: 19019 | W62: 2631
A63: ='B2C-expanded'!B63 -> 31-Jul-2016 | C63: =SUM(D63:E63) -> 339605.43 | D63: 319169.16 | E63: 20436.27 | F63: =G63+J63 -> 87025.752 | G63: =SUM(H63:I63) -> 71186.482 | H63: 48529.019 | I63: 22657.463 | J63: =SUM(K63:L63) -> 15839.27 | K63: 9867.9937 | L63: 5971.2759 | M63: =SUM(N63:O63) -> 1218821.3 | N63: 1084016 | O63: 134805.29 | P63: 6242.1452 | Q63: 1683.5636 | R63: =SUM(S63:W63) -> 93138 | S63: 12441 | T63: 2266 | U63: 56525 | V63: 19269 | W63: 2637
A64: ='B2C-expanded'!B64 -> 31-Aug-2016 | C64: =SUM(D64:E64) -> 343555.98 | D64: 322371.44 | E64: 21184.54 | F64: =G64+J64 -> 92031.799 | G64: =SUM(H64:I64) -> 76347.687 | H64: 51240.079 | I64: 25107.608 | J64: =SUM(K64:L64) -> 15684.113 | K64: 9048.8428 | L64: 6635.2699 | M64: =SUM(N64:O64) -> 1223849.4 | N64: 1088447.7 | O64: 135401.74 | P64: 3638.3837 | Q64: 1809.2418 | R64: =SUM(S64:W64) -> 93357 | S64: 12504 | T64: 2284 | U64: 56421 | V64: 19512 | W64: 2636
A65: ='B2C-expanded'!B65 -> 30-Sep-2016 | C65: =SUM(D65:E65) -> 344200.38 | D65: 323706.39 | E65: 20493.991 | F65: =G65+J65 -> 85470.856 | G65: =SUM(H65:I65) -> 69283.078 | H65: 46690.491 | I65: 22592.586 | J65: =SUM(K65:L65) -> 16187.779 | K65: 9764.5502 | L65: 6423.2286 | M65: =SUM(N65:O65) -> 1230923.6 | N65: 1094090.8 | O65: 136832.78 | P65: 4839.6871 | Q65: 2178.9281 | R65: =SUM(S65:W65) -> 93513 | S65: 12607 | T65: 2288 | U65: 56348 | V65: 19611 | W65: 2659
A66: ='B2C-expanded'!B66 -> 31-Oct-2016 | C66: =SUM(D66:E66) -> 353625.47 | D66: 330168.78 | E66: 23456.693 | F66: =G66+J66 -> 101368.89 | G66: =SUM(H66:I66) -> 82965.513 | H66: 61116.232 | I66: 21849.281 | J66: =SUM(K66:L66) -> 18403.373 | K66: 11365.757 | L66: 7037.616 | M66: =SUM(N66:O66) -> 1231504.8 | N66: 1098322.8 | O66: 133182 | P66: 5089.5689 | Q66: 2848.2225 | R66: =SUM(S66:W66) -> 93740 | S66: 12679 | T66: 2310 | U66: 56280 | V66: 19796 | W66: 2675
A67: ='B2C-expanded'!B67 -> 30-Nov-2016 | C67: =SUM(D67:E67) -> 356956.55 | D67: 333506.34 | E67: 23450.212 | F67: =G67+J67 -> 89041.143 | G67: =SUM(H67:I67) -> 73380.917 | H67: 52291.078 | I67: 21089.839 | J67: =SUM(K67:L67) -> 15660.227 | K67: 9569.6924 | L67: 6090.5342 | M67: =SUM(N67:O67) -> 1231659.9 | N67: 1096809.5 | O67: 134850.39 | P67: 4934.5537 | Q67: 2646.8872 | R67: =SUM(S67:W67) -> 94203 | S67: 12906 | T67: 2320 | U67: 56390 | V67: 19915 | W67: 2672
A68: ='B2C-expanded'!B68 -> 31-Dec-2016 | C68: =SUM(D68:E68) -> 355470.91 | D68: 334350.09 | E68: 21120.817 | F68: =G68+J68 -> 92676.9 | G68: =SUM(H68:I68) -> 77132.786 | H68: 57956.237 | I68: 19176.549 | J68: =SUM(K68:L68) -> 15544.114 | K68: 10196.893 | L68: 5347.221 | M68: =SUM(N68:O68) -> 1214379.5 | N68: 1107575.6 | O68: 106803.89 | P68: 5018.9481 | Q68: 2189.8112 | R68: =SUM(S68:W68) -> 94037 | S68: 12882 | T68: 2311 | U68: 56185 | V68: 19985 | W68: 2674
